BEGIN:VCALENDAR
VERSION:2.0
PRODID:-//ChamberMaster//Event Calendar 2.0//EN
METHOD:PUBLISH
X-PUBLISHED-TTL:P3D
REFRESH-INTERVAL:P3D
CALSCALE:GREGORIAN
BEGIN:VEVENT
DTSTART:20190518T230000Z
DTEND:20190519T040000Z
X-MICROSOFT-CDO-ALLDAYEVENT:FALSE
SUMMARY:See\, Sip\, & Savor
DESCRIPTION:See four of Los Cerritos' most interesting residences\, Sip wine and beverages at your leisure\, Savor hors d'oeuvres and dessert on a summer evening surrounded by great architecture\, gracious hosts\, and fascinating history. The event begins with a presentation by Dr. Geraldine Knatz about neighborhood history and is followed by a progressive tour.
X-ALT-DESC;FMTTYPE=text/html:See four of Los Cerritos&rsquo\; most interesting residences\, Sip wine and beverages at your leisure\, Savor hors d&rsquo\;oeuvres and dessert on a summer evening surrounded by great architecture\, gracious hosts\, and fascinating history. The event begins with a presentation by Dr. Geraldine Knatz about neighborhood history and is followed by a progressive tour.
LOCATION:
UID:e.1956.4401
SEQUENCE:3
DTSTAMP:20260419T212424Z
URL:https://business.lbchamber.com/events/details/see-sip-savor-4401
END:VEVENT

END:VCALENDAR
