BEGIN:VCALENDAR
VERSION:2.0
PRODID:-//ChamberMaster//Event Calendar 2.0//EN
METHOD:PUBLISH
X-PUBLISHED-TTL:P3D
REFRESH-INTERVAL:P3D
CALSCALE:GREGORIAN
BEGIN:VEVENT
DTSTART:20151030T003000Z
DTEND:20151030T040000Z
X-MICROSOFT-CDO-ALLDAYEVENT:FALSE
SUMMARY:SCWC's 31st Annual Dinner
DESCRIPTION:Don't miss this valuable opportunity to network with the region's most respected leaders on water.
X-ALT-DESC;FMTTYPE=text/html:Don&#39\;t miss this valuable opportunity to network with the region&#39\;s most respected leaders on water.
LOCATION:Sheraton Universal Hotel 333 Universal Hollywood Dr. Universal City\, CA 91608
UID:e.1956.2517
SEQUENCE:3
DTSTAMP:20260423T223549Z
URL:https://business.lbchamber.com/events/details/scwc-s-31st-annual-dinner-10-29-2015-2517
END:VEVENT

END:VCALENDAR
