BEGIN:VCALENDAR
VERSION:2.0
PRODID:-//ChamberMaster//Event Calendar 2.0//EN
METHOD:PUBLISH
X-PUBLISHED-TTL:P3D
REFRESH-INTERVAL:P3D
CALSCALE:GREGORIAN
BEGIN:VEVENT
DTSTART;VALUE=DATE:20150824
DTEND;VALUE=DATE:20150906
TRANSP:TRANSPARENT
X-MICROSOFT-CDO-ALLDAYEVENT:TRUE
SUMMARY:School Supply Drive
DESCRIPTION:Help support local grade school students in Long Beach and surrounding Districts get the necessary supplies needed for a successful year. We are partnering with our local Elementary Schools to identify the students who need these supplies the most. Our goal is to collect enough supplies for 500 students. Here is a list: backpacks\, loose leaf paper\, 3 ring binders\, pencil sharpener\, color markers\, glue sticks\, pencils\, safety scissors\, erasers\, pens\, composition books\, folders\, crayons\, rulers\, highlighters\, spiral notebooks\, pencil box\, dry erasers
X-ALT-DESC;FMTTYPE=text/html:Help support local grade school students in Long Beach and surrounding Districts get the necessary supplies needed for a successful year. We are partnering with our local Elementary Schools to identify the students who need these supplies the most. Our goal is to collect enough supplies for 500 students. Here is a list: backpacks\, loose leaf paper\, 3 ring binders\, pencil sharpener\, color markers\, glue sticks\, pencils\, safety scissors\, erasers\, pens\, composition books\, folders\, crayons\, rulers\, highlighters\, spiral notebooks\, pencil box\, dry erasers
LOCATION:DROP OFF: HR Block 4706 E @2nd St. Mon\, Wed\, 11-7pm\, Sat 10-3 400 Long Beach Blvd. Tues\, Thurs\, Fri 12-7pm 4520 Atlantic Ave Mon\, Fri 12-7pm\, Sat 10-3pm 5530 Woodruff Ave Tues\, Thurs 11-7\, Sat 10-3 10019 Valley View Blvd Wed\, Fri 11-7pm\, Sat 10-3pm
UID:e.1956.2500
SEQUENCE:3
DTSTAMP:20260420T225036Z
URL:https://business.lbchamber.com/events/details/school-supply-drive-08-24-2015-2500
END:VEVENT

END:VCALENDAR
