BEGIN:VCALENDAR
VERSION:2.0
PRODID:-//ChamberMaster//Event Calendar 2.0//EN
METHOD:PUBLISH
X-PUBLISHED-TTL:P3D
REFRESH-INTERVAL:P3D
CALSCALE:GREGORIAN
BEGIN:VEVENT
DTSTART:20210215T180000Z
DTEND:20210215T193000Z
X-MICROSOFT-CDO-ALLDAYEVENT:FALSE
SUMMARY:SBDC Legal Entity Webinar
DESCRIPTION:This in-depth webinar addresses a multitude of important topics regarding legal entities and other important decisions you will need to make as a business owner.\n\nOne of the first decisions will include how the company will be structured. Because of this\, we will cover the basics of regulatory filings that permit new owners to properly set up entities in California.\n\n\n\nOur discussion will cover legal formation for startups\, including:\n\n-LLC's\, S-Corporations\, C-Corporations\n\n-DBA's\n\n-Business permits\n\n-Resale Certificates\n\n-Federal Employer Identification Numbers (FEIN)\n\n-Other regulatory filings\n\n\n\nWe will also discuss:\n\n-The vision you have for your business\, especially regarding its size and the proposed number of employees\n\n-Legal restrictions and the level of control you wish to have over your business\n\n-The level of "structure" that works best for you\n\n-The business's vulnerability to lawsuits\n\n-The tax implications of the different ownership structures\n\n-Whether or not you need to re-invest earnings into the business
X-ALT-DESC;FMTTYPE=text/html:<span style="background:white\;"><span style="color:#232333\;"><span style="font-size:10.5pt\;">This in-depth webinar addresses a multitude of important topics regarding legal entities and other important decisions you will need to make as a business owner.</span></span></span><br />\n<span style="color:#232333\;"><span style="font-size:10.5pt\;"><span style="background:white\;">One of the first decisions will include how the company will be structured. Because of this\, we will cover the basics of regulatory filings that permit new owners to properly set up entities in California.</span><br />\n<br />\n<span style="background:white\;">Our discussion will cover legal formation for startups\, including:</span><br />\n<span style="background:white\;">-LLC&rsquo\;s\, S-Corporations\, C-Corporations</span><br />\n<span style="background:white\;">-DBA&rsquo\;s</span><br />\n<span style="background:white\;">-Business permits</span><br />\n<span style="background:white\;">-Resale Certificates</span><br />\n<span style="background:white\;">-Federal Employer Identification Numbers (FEIN)</span><br />\n<span style="background:white\;">-Other regulatory filings</span><br />\n<br />\n<span style="background:white\;">We will also discuss:</span><br />\n<span style="background:white\;">-The vision you have for your business\, especially regarding its size and the proposed number of employees</span><br />\n<span style="background:white\;">-Legal restrictions and the level of control you wish to have over your business</span><br />\n<span style="background:white\;">-The level of &ldquo\;structure&rdquo\; that works best for you</span><br />\n<span style="background:white\;">-The business&rsquo\;s vulnerability to lawsuits</span><br />\n<span style="background:white\;">-The tax implications of the different ownership structures</span><br />\n<span style="background:white\;">-Whether or not you need to re-invest earnings into the business</span></span></span><br />\n&nbsp\;
LOCATION:Virtual (Zoom)
UID:e.1956.5072
SEQUENCE:3
DTSTAMP:20260420T134013Z
URL:https://business.lbchamber.com/events/details/sbdc-legal-entity-webinar-5072
END:VEVENT

END:VCALENDAR
