BEGIN:VCALENDAR
VERSION:2.0
PRODID:-//ChamberMaster//Event Calendar 2.0//EN
METHOD:PUBLISH
X-PUBLISHED-TTL:P3D
REFRESH-INTERVAL:P3D
CALSCALE:GREGORIAN
BEGIN:VEVENT
DTSTART:20150124T180000Z
DTEND:20150124T200000Z
X-MICROSOFT-CDO-ALLDAYEVENT:FALSE
SUMMARY:Rolling Hills Preparatory School Open House
DESCRIPTION:To RSVP\, visit our website at www.rollinghillsprep.org/openhouse. You can also contact Ryan Tillson at 310-791-1101 or rtillson@rollinghillsprep.org.
X-ALT-DESC;FMTTYPE=text/html:<span style="color: rgb(31\, 73\, 125)\; font-family: Calibri\, sans-serif\; font-size: 15px\; line-height: normal\;">To RSVP\, visit our website at&nbsp\;</span><a href="http://www.rollinghillsprep.org/openhouse" style="color: rgb(17\, 85\, 204)\; font-family: Calibri\, sans-serif\; font-size: 15px\; line-height: normal\;" target="_blank">www.rollinghillsprep.org/<wbr />openhouse</a><span style="color: rgb(31\, 73\, 125)\; font-family: Calibri\, sans-serif\; font-size: 15px\; line-height: normal\;">. You can also contact Ryan Tillson at&nbsp\;</span><a href="tel:310-791-1101" style="color: rgb(17\, 85\, 204)\; font-family: Calibri\, sans-serif\; font-size: 15px\; line-height: normal\;" target="_blank" value="+13107911101">310-791-1101</a><span style="color: rgb(31\, 73\, 125)\; font-family: Calibri\, sans-serif\; font-size: 15px\; line-height: normal\;">&nbsp\;or&nbsp\;</span><a href="mailto:rtillson@rollinghillsprep.org" style="color: rgb(17\, 85\, 204)\; font-family: Calibri\, sans-serif\; font-size: 15px\; line-height: normal\;" target="_blank">rtillson@rollinghillsprep.org</a><span style="color: rgb(31\, 73\, 125)\; font-family: Calibri\, sans-serif\; font-size: 15px\; line-height: normal\;">.</span>
LOCATION:Rolling Hills Preparatory School One Rolling Hills Prep Way San Pedro\, CA 90732
UID:e.1956.2369
SEQUENCE:3
DTSTAMP:20260424T085338Z
URL:https://business.lbchamber.com/events/details/rolling-hills-preparatory-school-open-house-01-24-2015-2369
END:VEVENT

END:VCALENDAR
