BEGIN:VCALENDAR
VERSION:2.0
PRODID:-//ChamberMaster//Event Calendar 2.0//EN
METHOD:PUBLISH
X-PUBLISHED-TTL:P3D
REFRESH-INTERVAL:P3D
CALSCALE:GREGORIAN
BEGIN:VEVENT
DTSTART:20190302T030000Z
DTEND:20190302T090000Z
X-MICROSOFT-CDO-ALLDAYEVENT:FALSE
SUMMARY:"Rock My Soul" Live Music Benefit
DESCRIPTION:Come dance the night away at this fun-filled music and art benefit for non-profit collective Long Beach Community Table! Rock your soul to three local bands: Dead to the Core\, Grampa's Grass\, and Long Beach Unplugged\; take a painting class from renowned artists Levi Gadson or John Cheney\; bid on many fabulous silent auction items\; and support a great organization that directly contributes to the health\, well-being\, empowerment\, and self-determination of the homeless and other under-served populations in the greater Long Beach community. Admission includes live music and free parking. Extra fees for art session and auction. Food and drinks available for purchase. 21+
X-ALT-DESC;FMTTYPE=text/html:Come dance the night away at this fun-filled music and art benefit for non-profit collective Long Beach Community Table! Rock your soul to three local bands: Dead to the Core\, Grampa&rsquo\;s Grass\, and Long Beach Unplugged\; take a painting class from renowned artists Levi Gadson or John Cheney\; bid on many fabulous silent auction items\; and support a great organization that directly contributes to the health\, well-being\, empowerment\, and self-determination of the homeless and other under-served populations in the greater Long Beach community. Admission includes live music and free parking. Extra fees for art session and auction. Food and drinks available for purchase. 21+
LOCATION:PCH Club\, Best Western Golden Sails Hotel\, 6285 E. Pacific Coast Highway\, Long Beach\, CA 90803
UID:e.1956.4440
SEQUENCE:3
DTSTAMP:20260420T001441Z
URL:https://business.lbchamber.com/events/details/rock-my-soul-live-music-benefit-4440
END:VEVENT

END:VCALENDAR
