BEGIN:VCALENDAR
VERSION:2.0
PRODID:-//ChamberMaster//Event Calendar 2.0//EN
METHOD:PUBLISH
X-PUBLISHED-TTL:P3D
REFRESH-INTERVAL:P3D
CALSCALE:GREGORIAN
BEGIN:VEVENT
DTSTART:20151217T013000Z
DTEND:20151217T033000Z
X-MICROSOFT-CDO-ALLDAYEVENT:FALSE
SUMMARY:REVISED DATE "Brews and Bites" at The Edison in Long Beach
DESCRIPTION:Come enjoy a happy hour affair celebrating the re-imagined Edison\, a new urban luxury community in Downtown Long Beach. Join us for complimentary brews and bites provided by Beachwood Brewing and a personalized tour of our new apartment lofts! This event is open to all businesses in the Downtown and East Arts Districts of Long Beach. Come see why everyone is talking about The Edison. Wednesday\, December 16\, 2015\, 100 Long Beach Boulevard\, Long Beach\, 90802 from 5:30 to 7:30 pm.
X-ALT-DESC;FMTTYPE=text/html:Come enjoy a happy hour affair celebrating the re-imagined Edison\, a new urban luxury community in Downtown Long Beach. Join us for complimentary brews and bites provided by Beachwood Brewing and a personalized tour of our new apartment lofts! This event is open to all businesses in the Downtown and East Arts Districts of Long Beach. Come see why everyone is talking about The Edison. Wednesday\, December 16\, 2015\, 100 Long Beach Boulevard\, Long Beach\, 90802 from 5:30 to 7:30 pm.
LOCATION:The Edison (100 Long Beach Boulevard\, Long Beach\, 90802)
UID:e.1956.2564
SEQUENCE:3
DTSTAMP:20260423T203546Z
URL:https://business.lbchamber.com/events/details/revised-date-brews-and-bites-at-the-edison-in-long-beach-12-16-2015-2564
END:VEVENT

END:VCALENDAR
