BEGIN:VCALENDAR
VERSION:2.0
PRODID:-//ChamberMaster//Event Calendar 2.0//EN
METHOD:PUBLISH
X-PUBLISHED-TTL:P3D
REFRESH-INTERVAL:P3D
CALSCALE:GREGORIAN
BEGIN:VEVENT
DTSTART:20151019T010000Z
DTEND:20151019T070000Z
X-MICROSOFT-CDO-ALLDAYEVENT:FALSE
SUMMARY:Remember The Music
DESCRIPTION:Remember The Music is an annual roots music benefit concert for Alzheimer's disease research organized by Betty's Foundation\, a 501(c)(3) non-profit organization. We are extremely pleased to be hosting our 7th annual Remember The Music event October 18\, 2015 at the historic "The Federal Bar" in Long Beach\, CA. The concert event features The Maldives\, The Get Down Boys\, Chris Mathieu\, and Eric Kufs. In addition to the live music entertainment we will have a guest speaker from Music and Memory providing information regarding their programs with using music as a form of therapy for Alzheimer?s patients. See rememberthemusic.org for more information.
X-ALT-DESC;FMTTYPE=text/html:Remember The Music is an annual roots music benefit concert for Alzheimer&#39\;s disease research organized by Betty&#39\;s Foundation\, a 501(c)(3) non-profit organization. We are extremely pleased to be hosting our 7th annual Remember The Music event October 18\, 2015 at the historic &quot\;The Federal Bar&quot\; in Long Beach\, CA. The concert event features The Maldives\, The Get Down Boys\, Chris Mathieu\, and Eric Kufs. In addition to the live music entertainment we will have a guest speaker from Music and Memory providing information regarding their programs with using music as a form of therapy for Alzheimer?s patients. See rememberthemusic.org for more information.
LOCATION:102 Pine Ave Long Beach\, CA 90802
UID:e.1956.2515
SEQUENCE:3
DTSTAMP:20260423T223508Z
URL:https://business.lbchamber.com/events/details/remember-the-music-10-18-2015-2515
END:VEVENT

END:VCALENDAR
