BEGIN:VCALENDAR
VERSION:2.0
PRODID:-//ChamberMaster//Event Calendar 2.0//EN
METHOD:PUBLISH
X-PUBLISHED-TTL:P3D
REFRESH-INTERVAL:P3D
CALSCALE:GREGORIAN
BEGIN:VEVENT
DTSTART:20150608T010000Z
DTEND:20150608T040000Z
X-MICROSOFT-CDO-ALLDAYEVENT:FALSE
SUMMARY:Recognition Dinner
DESCRIPTION:Come join us as we recognize the accomplishments of our students and celebrate the efforts of our volunteer mentors. Power 4 Youth is an academic mentoring program which helps at-risk youth to do better in school through the assistance of a one-on-one mentor.
X-ALT-DESC;FMTTYPE=text/html:Come join us as we recognize the accomplishments of our students and celebrate the efforts of our volunteer mentors. Power 4 Youth is an academic mentoring program which helps at-risk youth to do better in school through the assistance of a one-on-one mentor.
LOCATION:tbd
UID:e.1956.2394
SEQUENCE:3
DTSTAMP:20260424T023441Z
URL:https://business.lbchamber.com/events/details/recognition-dinner-06-07-2015-2394
END:VEVENT

END:VCALENDAR
