BEGIN:VCALENDAR
VERSION:2.0
PRODID:-//ChamberMaster//Event Calendar 2.0//EN
METHOD:PUBLISH
X-PUBLISHED-TTL:P3D
REFRESH-INTERVAL:P3D
CALSCALE:GREGORIAN
BEGIN:VEVENT
DTSTART:20180622T003000Z
DTEND:20180622T043000Z
X-MICROSOFT-CDO-ALLDAYEVENT:FALSE
SUMMARY:"Reaching for the Stars" Disabled Resources Center\, Inc. 42nd Annual Awards Dinner
DESCRIPTION:Disabled Resources Center\, Inc. (DRC) will be presenting their 42nd Annual Awards Dinner\, "Reaching for the Stars\," at The Grand Event Center\, 4101 East Willow Street\, Long Beach\, CA 90815. This gala fundraising and recognition event honors outstanding individuals\, businesses and organizations in our community who have helped improve the quality of life for people with disabilities.
X-ALT-DESC;FMTTYPE=text/html:Disabled Resources Center\, Inc. (DRC) will be presenting their 42nd Annual Awards Dinner\, &quot\;Reaching for the Stars\,&quot\; at The Grand Event Center\, 4101 East Willow Street\, Long Beach\, CA 90815. This gala fundraising and recognition event honors outstanding individuals\, businesses and organizations in our community who have helped improve the quality of life for people with disabilities.
LOCATION:The Grand Event Center\, 4101 E Willow St\, Long Beach\, CA 90815\, Phone: (562) 426-0555
UID:e.1956.4261
SEQUENCE:3
DTSTAMP:20260420T131156Z
URL:https://business.lbchamber.com/events/details/reaching-for-the-stars-disabled-resources-center-inc-42nd-annual-awards-dinner-4261
END:VEVENT

END:VCALENDAR
