BEGIN:VCALENDAR
VERSION:2.0
PRODID:-//ChamberMaster//Event Calendar 2.0//EN
METHOD:PUBLISH
X-PUBLISHED-TTL:P3D
REFRESH-INTERVAL:P3D
CALSCALE:GREGORIAN
BEGIN:VEVENT
DTSTART:20190825T000000Z
DTEND:20190825T040000Z
X-MICROSOFT-CDO-ALLDAYEVENT:FALSE
SUMMARY:Rancho Los Alamitos presents FARM DINNER AT THE RANCH
DESCRIPTION:Rancho Los Alamitos presents FARM DINNER AT THE RANCH Saturday\, August 24\, 2019 5:00 PM TO 9:00 PM $1\,500 table of 10 or $150 per person (RLA Members: $125) Join us under the stars for a farm-to-table feast in the style of California's ranching traditions\, featuring a farm-fresh menu from Primal Alchemy. Enjoy delicious appetizers on the tree-shaded front lawn\, specialty wines and craft beers\, live and silent auction and live music. This unique fundraiser happens only once a year! Underwriting/sponsorship opportunities also available. For reservations or more information\, please call 562.431.3541 or email: info@rancholosalamitos.org Farm Dinner is a fundraiser supporting the educational mission of Rancho Los Alamitos
X-ALT-DESC;FMTTYPE=text/html:Rancho Los Alamitos presents FARM DINNER AT THE RANCH Saturday\, August 24\, 2019 5:00 PM TO 9:00 PM $1\,500 table of 10 or $150 per person (RLA Members: $125) Join us under the stars for a farm-to-table feast in the style of California&rsquo\;s ranching traditions\, featuring a farm-fresh menu from Primal Alchemy. Enjoy delicious appetizers on the tree-shaded front lawn\, specialty wines and craft beers\, live and silent auction and live music. This unique fundraiser happens only once a year! Underwriting/sponsorship opportunities also available. For reservations or more information\, please call 562.431.3541 or email: info@rancholosalamitos.org Farm Dinner is a fundraiser supporting the educational mission of Rancho Los Alamitos
LOCATION:Rancho Los Alamitos Historic and Gardens 6400 E Bixby Hill Road Long Beach\, CA 90815
UID:e.1956.4537
SEQUENCE:3
DTSTAMP:20260419T184413Z
URL:https://business.lbchamber.com/events/details/rancho-los-alamitos-presents-farm-dinner-at-the-ranch-4537
END:VEVENT

END:VCALENDAR
