BEGIN:VCALENDAR
VERSION:2.0
PRODID:-//ChamberMaster//Event Calendar 2.0//EN
METHOD:PUBLISH
X-PUBLISHED-TTL:P3D
REFRESH-INTERVAL:P3D
CALSCALE:GREGORIAN
BEGIN:VEVENT
DTSTART:20140521T183000Z
DTEND:20140521T203000Z
X-MICROSOFT-CDO-ALLDAYEVENT:FALSE
SUMMARY:Rancho Los Alamitos Cottonwood Awards Luncheon
DESCRIPTION:
X-ALT-DESC;FMTTYPE=text/html:
LOCATION:
UID:e.1956.1219
SEQUENCE:3
DTSTAMP:20260424T194749Z
URL:https://business.lbchamber.com/events/details/rancho-los-alamitos-cottonwood-awards-luncheon-05-21-2014-1219
END:VEVENT

END:VCALENDAR
