BEGIN:VCALENDAR
VERSION:2.0
PRODID:-//ChamberMaster//Event Calendar 2.0//EN
METHOD:PUBLISH
X-PUBLISHED-TTL:P3D
REFRESH-INTERVAL:P3D
CALSCALE:GREGORIAN
BEGIN:VEVENT
DTSTART:20150913T000000Z
DTEND:20150913T050000Z
X-MICROSOFT-CDO-ALLDAYEVENT:FALSE
SUMMARY:Ranch Roundup
DESCRIPTION:A rip-roarin' good time supporting the educational programs of Rancho Los Alamitos. Ranch Style Barbecue\, Live Music and Dancing\, Casino Under the Stars\, Blackjack\, Roulette\, Craps. Texas Hold'em Poker Challenge. Live and Silent Auctions.
X-ALT-DESC;FMTTYPE=text/html:A rip-roarin&#39\; good time supporting the educational programs of Rancho Los Alamitos. Ranch Style Barbecue\, Live Music and Dancing\, Casino Under the Stars\, Blackjack\, Roulette\, Craps. Texas Hold&#39\;em Poker Challenge. Live and Silent Auctions.
LOCATION:Rancho Los Alamitos Historic Ranch and Gardens 6400 E Bixby Hill Road Long Beach\, CA 90815
UID:e.1956.2366
SEQUENCE:3
DTSTAMP:20260423T233546Z
URL:https://business.lbchamber.com/events/details/ranch-roundup-09-12-2015-2366
END:VEVENT

END:VCALENDAR
