BEGIN:VCALENDAR
VERSION:2.0
PRODID:-//ChamberMaster//Event Calendar 2.0//EN
METHOD:PUBLISH
X-PUBLISHED-TTL:P3D
REFRESH-INTERVAL:P3D
CALSCALE:GREGORIAN
BEGIN:VEVENT
DTSTART:20141011T150000Z
DTEND:20141012T190000Z
X-MICROSOFT-CDO-ALLDAYEVENT:FALSE
SUMMARY:Race for a Cure! Long Beach Races and Expect Miracles.
DESCRIPTION:Expect Miracles Foundation has been selected as a beneficiary charity of the Long Beach International City Bank Marathon & Half Marathon. The Expect Miracles Racing Team consists of individuals who have made an important decision - to make their racing experience more meaningful by raising funds for cancer research and patient care programs. We are looking for runners\, bikers\, and volunteers to join our team.
X-ALT-DESC;FMTTYPE=text/html:&nbsp\;Expect Miracles Foundation has been selected as a beneficiary charity of the Long Beach International City Bank Marathon &amp\; Half Marathon.&nbsp\;The Expect Miracles Racing Team consists of individuals who have made an important decision - to make their racing experience more meaningful by raising funds for cancer research and patient care programs. We are looking for runners\, bikers\, and volunteers to join our team.&nbsp\;
LOCATION:Long Beach\, CA
UID:e.1956.1279
SEQUENCE:3
DTSTAMP:20260424T130221Z
URL:https://business.lbchamber.com/events/details/race-for-a-cure-long-beach-races-and-expect-miracles-10-11-2014-1279
END:VEVENT

END:VCALENDAR
