BEGIN:VCALENDAR
VERSION:2.0
PRODID:-//ChamberMaster//Event Calendar 2.0//EN
METHOD:PUBLISH
X-PUBLISHED-TTL:P3D
REFRESH-INTERVAL:P3D
CALSCALE:GREGORIAN
BEGIN:VEVENT
DTSTART:20180505T140000Z
DTEND:20180505T183000Z
X-MICROSOFT-CDO-ALLDAYEVENT:FALSE
SUMMARY:PurpleStride Los Angeles 2018
DESCRIPTION:PurpleStride is the signature event of the Pancreatic Cancer Action Network. Each year\, in communities across the country\, tens of thousands of people participate in more than fifty-five PurpleStride events\, including PurpleStride Los Angeles. These events are critical in raising awareness and funds that advance research and support patients and loved ones with a promise of a better tomorrow. Wage Hope at PurpleStride. The walk to end pancreatic cancer. Get 10% off registration with discount code ONLINE purplestride.org/losangeles
X-ALT-DESC;FMTTYPE=text/html:PurpleStride is the signature event of the Pancreatic Cancer Action Network. Each year\, in communities across the country\, tens of thousands of people participate in more than fifty-five PurpleStride events\, including PurpleStride Los Angeles. These events are critical in raising awareness and funds that advance research and support patients and loved ones with a promise of a better tomorrow. Wage Hope at PurpleStride. The walk to end pancreatic cancer. Get 10% off registration with discount code ONLINE purplestride.org/losangeles
LOCATION:Exposition Park 3855 S Figueroa St Los Angeles\, CA 90037
UID:e.1956.4271
SEQUENCE:3
DTSTAMP:20260420T143438Z
URL:https://business.lbchamber.com/events/details/purplestride-los-angeles-2018-4271
END:VEVENT

END:VCALENDAR
