BEGIN:VCALENDAR
VERSION:2.0
PRODID:-//ChamberMaster//Event Calendar 2.0//EN
METHOD:PUBLISH
X-PUBLISHED-TTL:P3D
REFRESH-INTERVAL:P3D
CALSCALE:GREGORIAN
BEGIN:VEVENT
DTSTART:20151119T163000Z
DTEND:20151119T200000Z
X-MICROSOFT-CDO-ALLDAYEVENT:FALSE
SUMMARY:Public Health Heroes Needed!
DESCRIPTION:Do you want to aid in bioterror preparedness? Get free breakfast and prizes while you?re at it? Are you ready to act in the role of a lifetime? If the answer to either of these is yes\, join us on Thursday\, November 19th! The City of Long Beach will host a drill to test how it provides medicine to the public in the event of a bioterror attack. We?ve planned everything\, and we?re just missing one thing: you. What does volunteering entail? Three simple steps: Step 1: Register at the link below Step 2: Be at Veteran?s Park on November 19th Step 3: Do ?actor? training & participate in the drill! This is an amazing opportunity and is sure to give you the best story at the Thanksgiving Dinner table!
X-ALT-DESC;FMTTYPE=text/html:Do you want to aid in bioterror preparedness? Get free breakfast and prizes while you?re at it? Are you ready to act in the role of a lifetime? If the answer to either of these is yes\, join us on Thursday\, November 19th! The City of Long Beach will host a drill to test how it provides medicine to the public in the event of a bioterror attack. We?ve planned everything\, and we?re just missing one thing: you. What does volunteering entail? Three simple steps: Step 1: Register at the link below Step 2: Be at Veteran?s Park on November 19th Step 3: Do ?actor? training &amp\; participate in the drill! This is an amazing opportunity and is sure to give you the best story at the Thanksgiving Dinner table!
LOCATION:Veterans Park 101 E. 28th St. Long Beach\, CA 90806
UID:e.1956.2555
SEQUENCE:3
DTSTAMP:20260423T214459Z
URL:https://business.lbchamber.com/events/details/public-health-heroes-needed-11-19-2015-2555
END:VEVENT

END:VCALENDAR
