BEGIN:VCALENDAR
VERSION:2.0
PRODID:-//ChamberMaster//Event Calendar 2.0//EN
METHOD:PUBLISH
X-PUBLISHED-TTL:P3D
REFRESH-INTERVAL:P3D
CALSCALE:GREGORIAN
BEGIN:VEVENT
DTSTART:20151111T163000Z
DTEND:20151111T190000Z
X-MICROSOFT-CDO-ALLDAYEVENT:FALSE
SUMMARY:Preventing Sexual Harassment in the Workplace
DESCRIPTION:Businesses with 50 or more employees are required by California law to provide two hours of interactive sexual harassment and abusive conduct training every two years to their managers and supervisors who work in the State of California\; newly hired and newly promoted supervisors must receive this training within six months of assuming a supervisor position. This training is also recommended for all management training person nel\, regardless of the number of persons employed. This two-hour management training program fulfills the mandated sexual harassment supervisor training requirement for California. This program is co-sponsored by Clark & Trevithick and Southland Data Processing\, a payroll and HR strategist company. Complimentary Continental Breakfast and Registration will begin at 8:30a.m. Free self-parking at each individual event location. This program has been submitted to HR Certification Institute to review. Clark & Trevithick is a State Bar of California MCLE Provider. This program offers 1. 75 hours MCLE credit for attorneys.
X-ALT-DESC;FMTTYPE=text/html:Businesses with 50 or more employees are required by California law to provide two hours of interactive sexual harassment and abusive conduct training every two years to their managers and supervisors who work in the State of California\; newly hired and newly promoted supervisors must receive this training within six months of assuming a supervisor position. This training is also recommended for all management training person&shy\;nel\, regardless of the number of persons employed. This two-hour management training program fulfills the mandated sexual harassment supervisor training requirement for California. This program is co-sponsored by Clark &amp\; Trevithick and Southland Data Processing\, a payroll and HR strategist company. Complimentary Continental Breakfast and Registration will begin at 8:30a.m. Free self-parking at each individual event location. This program has been submitted to HR Certification Institute to review. Clark &amp\; Trevithick is a State Bar of California MCLE Provider. This program offers 1. 75 hours MCLE credit for attorneys.
LOCATION:Long Beach Marriott
UID:e.1956.2547
SEQUENCE:3
DTSTAMP:20260423T213814Z
URL:https://business.lbchamber.com/events/details/preventing-sexual-harassment-in-the-workplace-11-11-2015-2547
END:VEVENT

END:VCALENDAR
