BEGIN:VCALENDAR
VERSION:2.0
PRODID:-//ChamberMaster//Event Calendar 2.0//EN
METHOD:PUBLISH
X-PUBLISHED-TTL:P3D
REFRESH-INTERVAL:P3D
CALSCALE:GREGORIAN
BEGIN:VEVENT
DTSTART:20201109T180000Z
DTEND:20201109T190000Z
X-MICROSOFT-CDO-ALLDAYEVENT:FALSE
SUMMARY:PPP Forgiveness Webinar
DESCRIPTION:Will you be forgiven? Now that you have received PPP funding\, you may be wondering or confused about PPP loan forgiveness.\n\n\n\nThis workshop provides you with a detailed understanding of how to apply for forgiveness.\n\nFor those who have not yet applied\, you will also learn the terms and conditions for PPP funding.\n\n\n\nThe topics include:\n\n  PPP Purpose\, overview and terms\n\n  The 60/40 Rule\n\n  Definitions of Payroll Costs\n\n  Definitions of Non Payroll Costs\n\n  Covered periods for funding expenses\n\n  How to calculate Payroll Costs and FTE reductions\n\n  What to do if Employees refuse to come back to work.\n\n  How to complete the forgiveness calculation\n\n  Documentation for forgiveness\n\n  Tax issues related to forgiveness
X-ALT-DESC;FMTTYPE=text/html:&nbsp\;<br />\n<span style="background-image:initial\;background-position:initial\;background-size:initial\;background-repeat:initial\;background-attachment:initial\;background-origin:initial\;background-clip:initial\;"><span style="color:#232333\;"><span style="font-size:10.5pt\;">Will you be forgiven? Now that you have received PPP funding\, you may be wondering or confused about PPP loan forgiveness.</span></span></span><br />\n<br />\n<span style="color:#232333\;"><span style="font-size:10.5pt\;"><span style="background-image:initial\;background-position:initial\;background-size:initial\;background-repeat:initial\;background-attachment:initial\;background-origin:initial\;background-clip:initial\;">This workshop provides you with a detailed understanding of how to apply for forgiveness.</span><br />\n<span style="background-image:initial\;background-position:initial\;background-size:initial\;background-repeat:initial\;background-attachment:initial\;background-origin:initial\;background-clip:initial\;">For those who have not yet applied\, you will also learn the terms and conditions for PPP funding.</span><br />\n<br />\n<span style="background-image:initial\;background-position:initial\;background-size:initial\;background-repeat:initial\;background-attachment:initial\;background-origin:initial\;background-clip:initial\;">The topics include:</span><br />\n<span style="background-image:initial\;background-position:initial\;background-size:initial\;background-repeat:initial\;background-attachment:initial\;background-origin:initial\;background-clip:initial\;">&middot\; PPP Purpose\, overview and terms</span><br />\n<span style="background-image:initial\;background-position:initial\;background-size:initial\;background-repeat:initial\;background-attachment:initial\;background-origin:initial\;background-clip:initial\;">&middot\; The 60/40 Rule</span><br />\n<span style="background-image:initial\;background-position:initial\;background-size:initial\;background-repeat:initial\;background-attachment:initial\;background-origin:initial\;background-clip:initial\;">&middot\; Definitions of Payroll Costs</span><br />\n<span style="background-image:initial\;background-position:initial\;background-size:initial\;background-repeat:initial\;background-attachment:initial\;background-origin:initial\;background-clip:initial\;">&middot\; Definitions of Non Payroll Costs</span><br />\n<span style="background-image:initial\;background-position:initial\;background-size:initial\;background-repeat:initial\;background-attachment:initial\;background-origin:initial\;background-clip:initial\;">&middot\; Covered periods for funding expenses</span><br />\n<span style="background-image:initial\;background-position:initial\;background-size:initial\;background-repeat:initial\;background-attachment:initial\;background-origin:initial\;background-clip:initial\;">&middot\; How to calculate Payroll Costs and FTE reductions</span><br />\n<span style="background-image:initial\;background-position:initial\;background-size:initial\;background-repeat:initial\;background-attachment:initial\;background-origin:initial\;background-clip:initial\;">&middot\; What to do if Employees refuse to come back to work.</span><br />\n<span style="background-image:initial\;background-position:initial\;background-size:initial\;background-repeat:initial\;background-attachment:initial\;background-origin:initial\;background-clip:initial\;">&middot\; How to complete the forgiveness calculation</span><br />\n<span style="background-image:initial\;background-position:initial\;background-size:initial\;background-repeat:initial\;background-attachment:initial\;background-origin:initial\;background-clip:initial\;">&middot\; Documentation for forgiveness</span><br />\n<span style="background-image:initial\;background-position:initial\;background-size:initial\;background-repeat:initial\;background-attachment:initial\;background-origin:initial\;background-clip:initial\;">&middot\; Tax issues related to forgiveness</span></span></span><br />\n&nbsp\;
LOCATION:Virtual (Zoom)
UID:e.1956.4974
SEQUENCE:3
DTSTAMP:20260420T185226Z
URL:https://business.lbchamber.com/events/details/ppp-forgiveness-webinar-4974
END:VEVENT

END:VCALENDAR
