BEGIN:VCALENDAR
VERSION:2.0
PRODID:-//ChamberMaster//Event Calendar 2.0//EN
METHOD:PUBLISH
X-PUBLISHED-TTL:P3D
REFRESH-INTERVAL:P3D
CALSCALE:GREGORIAN
BEGIN:VEVENT
DTSTART:20150523T230000Z
DTEND:20150524T020000Z
X-MICROSOFT-CDO-ALLDAYEVENT:FALSE
SUMMARY:Pony Box Dance Theatre Soiree
DESCRIPTION:Join the dancers of Pony Box Dance Theatre in the picturesque home of Long Beach arts patron\, Anthony Gagliardi\, for a delightful evening of dance\, wine and appetizers. Meet the dancers and director and sample the artful\, athletic dances of Long Beach's own contemporary "Ballet Boyz".\n\n\n\nThe mission of Pony Box Dance Theatre is to bring the joy of dance to everyone.  We are committed to sharing our artistry with underserved audiences and students in Long Beach.  We have performed twice in the A LOT series\, presented by the Arts Council for Long Beach and will begin a new program for 3rd and 4th graders at International Elementary School in the fall of 2015.
X-ALT-DESC;FMTTYPE=text/html:Join the dancers of Pony Box Dance Theatre in the&nbsp\;picturesque home of Long Beach arts patron\, Anthony&nbsp\;Gagliardi\, for a delightful evening of dance\, wine and&nbsp\;appetizers. Meet the dancers and director and sample the&nbsp\;artful\, athletic dances of Long Beach&#39\;s own contemporary&nbsp\;&quot\;Ballet Boyz&quot\;.<br />\n<br />\nThe mission of Pony Box Dance Theatre is to bring the joy of&nbsp\;dance to everyone. &nbsp\;We are committed to sharing our artistry&nbsp\;with underserved audiences and students in Long Beach. &nbsp\;We have performed twice in the A LOT series\, presented by&nbsp\;the Arts Council for Long Beach and will begin a new&nbsp\;program for 3rd and 4th graders at International Elementary&nbsp\;School in the fall of 2015.
LOCATION:5411 El Cedral Street/Long Beach\, CA 90815
UID:e.1956.2451
SEQUENCE:3
DTSTAMP:20260424T033459Z
URL:https://business.lbchamber.com/events/details/pony-box-dance-theatre-soiree-05-23-2015-2451
END:VEVENT

END:VCALENDAR
