BEGIN:VCALENDAR
VERSION:2.0
PRODID:-//ChamberMaster//Event Calendar 2.0//EN
METHOD:PUBLISH
X-PUBLISHED-TTL:P3D
REFRESH-INTERVAL:P3D
CALSCALE:GREGORIAN
BEGIN:VEVENT
DTSTART:20170228T193000Z
DTEND:20170228T213000Z
X-MICROSOFT-CDO-ALLDAYEVENT:FALSE
SUMMARY:Police & Fire Appreciation Luncheon
DESCRIPTION:A business community luncheon to thank those who protect our community\, courageously respond to emergencies and selflessly serve us all in our time of need.\n\nFeaturing LBPD Chief Robert Luna and LBFD Chief Michael DuRee.
X-ALT-DESC;FMTTYPE=text/html:A business community luncheon to thank those who protect our community\, courageously respond&nbsp\;to emergencies and selflessly serve us all in our time of need.<br />\nFeaturing LBPD Chief Robert Luna and LBFD Chief Michael DuRee.
LOCATION:Hotel Maya Lagunita Pavilion 700 Queensway Drive Long Beach\, CA 90802 Complimentary Parking
UID:e.1956.3058
SEQUENCE:3
DTSTAMP:20260419T222116Z
URL:https://business.lbchamber.com/events/details/police-fire-appreciation-luncheon-3058
END:VEVENT

END:VCALENDAR
