BEGIN:VCALENDAR
VERSION:2.0
PRODID:-//ChamberMaster//Event Calendar 2.0//EN
METHOD:PUBLISH
X-PUBLISHED-TTL:P3D
REFRESH-INTERVAL:P3D
CALSCALE:GREGORIAN
BEGIN:VEVENT
DTSTART:20190118T180000Z
DTEND:20190121T010000Z
X-MICROSOFT-CDO-ALLDAYEVENT:FALSE
SUMMARY:Planning for your DTG Printer purchase: Visit OmniPrint at ISS Long Beach 2019
DESCRIPTION:Visit OmniPrint (booth #757) at the Long Beach Convention Center\, Jan 18 - 20 for a chance to win a FreeJet 330TX PLUS direct to garment printer! OmniPrint's FreeJet DTG printers have been awarded the SGIA "Product of the Year" three years in a row! Additionally\, our print shop streamlining "WURK" software won the 2018 Product of the Year award for automation! Stop by our ISS Long Beach booth to see our printers and software in action!
X-ALT-DESC;FMTTYPE=text/html:Visit OmniPrint (booth #757) at the Long Beach Convention Center\, Jan 18 - 20 for a chance to win a FreeJet 330TX PLUS direct to garment printer! OmniPrint&#39\;s FreeJet DTG printers have been awarded the SGIA &quot\;Product of the Year&quot\; three years in a row! Additionally\, our print shop streamlining &quot\;WURK&quot\; software won the 2018 Product of the Year award for automation! Stop by our ISS Long Beach booth to see our printers and software in action!
LOCATION:Long Beach Convention Center 300 East Ocean Boulevard Long Beach\, CA 90802
UID:e.1956.4404
SEQUENCE:3
DTSTAMP:20260420T025453Z
URL:https://business.lbchamber.com/events/details/planning-for-your-dtg-printer-purchase-visit-omniprint-at-iss-long-beach-2019-4404
END:VEVENT

END:VCALENDAR
