BEGIN:VCALENDAR
VERSION:2.0
PRODID:-//ChamberMaster//Event Calendar 2.0//EN
METHOD:PUBLISH
X-PUBLISHED-TTL:P3D
REFRESH-INTERVAL:P3D
CALSCALE:GREGORIAN
BEGIN:VEVENT
DTSTART:20190615T160000Z
DTEND:20190701T010000Z
X-MICROSOFT-CDO-ALLDAYEVENT:FALSE
SUMMARY:Pigmentation Myths & Facts + Staycation Vibes & Happy Hour!
DESCRIPTION:Polished Rx Skin Couture\n\nPigmentation Myths & Facts Thur. 6/20 6-8pm\n\n\n\n-Learn about Hyperpigmentation\, Melasma & Sun Damage \n\n-Products that REALLY work & why\n\n-Which treatments DO & DON'T work & why\n\n-Skin Cancer - FACTS you should know \n\n\n\nRSVP (800) 681-7904 - spaces are limited \n\n-Enjoy wine\, appetizers\, goodie bag & special pricing on \n\n-Pigment Correction Treatments & Products\n\n___________________________________________________________________\n\nHAPPY HOUR 12-3pm 20% OFF \n\n\n\n-HydraSonic (MAJOR upgrade to HydraFacial!!) or Dermaplaning w/ Intraceuticals \n\n- Lumecca Skin Rejuvenation #IPL or Diolaze Laser Hair Removal\n\n- Venus Freeze Plus #SkinTightening \n\n- @allergan #Botox $11.50/unit\n\n- $75 OFF (1) Juv derm or $175 OFF (2) \n\n___________________________________________________________________\n\nBRITE & LITE \n\n\n\n- (3) IPL \n\n- (3) PCA SKIN #ChemicalPeels\n\n- (3) Sun Repair Facials \n\n- ZO Skin Health Anti-Aging Kit FREE\n\n- TIZO #SPF FREE\n\n___________________________________________________________________\n\nSTAYCATION VIBES - 3 months to NEW SKIN!\n\n\n\nSkin Renew - 1 session monthly\n\n-Dermalneedling w/Level 1 Peel\n\n-Post Renew Facial w/ #LED\n\n- Post Tx Kit \n\n$750 monthly (reg $930/month)\n\n\n\nSkin Refine - 1 session monthly \n\n- Dermalneedling w/ SELPHYL #PRFM\n\n- Post Refine Facial w/LED\n\n- Post Tx Kit \n\n$1500 monthly (reg $1780)\n\n\n\nSkin Remodel\n\n- Fractora Skin Treatment & #PRP\n\n- Post Resurfacing Facial w/ Biopelle Growth Factor & LED\n\n- Biopelle Repair Kit\n\n$2500 (reg $3650)\n\n___________________________________________________________________\n\nPolished Rx Skin Couture\n\n5708 E. 2nd St.\, Long Beach CA 90803\n\nwww.PolishedRx.com\, Info@PolishedRx.com\n\n(800) 681-7904\n\n\n\nDr. Linda Hillebrand - Owner\, Michelle Kauffman - Founder\n\n\n\n**Specials cannot be combined\, transferred or refunded and are subject to availability. Spa Finders\, Yelp vouchers\, Care Credit and Gift Cards cannot be used to purchased special offers. GFE required prior to all medical services and prescription purchases. Valid through 6/30/19 or while supplies last.
X-ALT-DESC;FMTTYPE=text/html:<a href="https://www.facebook.com/PolishedRxSkinCouture/" style="color: rgb(56\, 88\, 152)\; cursor: pointer\; text-decoration-line: none\; font-family: system-ui\, -apple-system\, system-ui\, &quot\;.SFNSText-Regular&quot\;\, sans-serif\; font-size: 14px\; white-space: pre-wrap\;" target="_blank">Polished Rx Skin Couture</a><br />\n<span style="color:rgb(29\, 33\, 41)\; font-family:system-ui\,-apple-system\,system-ui\,.sfnstext-regular\,sans-serif\; font-size:14px">Pigmentation Myths &amp\; Facts Thur. 6/20 6-8pm</span><br />\n<br />\n<span style="color:rgb(29\, 33\, 41)\; font-family:system-ui\,-apple-system\,system-ui\,.sfnstext-regular\,sans-serif\; font-size:14px">-Learn about Hyperpigmentation\, Melasma &amp\; Sun Damage </span><br />\n<span style="color:rgb(29\, 33\, 41)\; font-family:system-ui\,-apple-system\,system-ui\,.sfnstext-regular\,sans-serif\; font-size:14px">-Products that REALLY work &amp\; why</span><br />\n<span style="color:rgb(29\, 33\, 41)\; font-family:system-ui\,-apple-system\,system-ui\,.sfnstext-regular\,sans-serif\; font-size:14px">-Which treatments DO &amp\; DON&#39\;T work &amp\; why</span><br />\n<span style="color:rgb(29\, 33\, 41)\; font-family:system-ui\,-apple-system\,system-ui\,.sfnstext-regular\,sans-serif\; font-size:14px">-Skin Cancer - FACTS you should know </span><br />\n<br />\n<span style="color:rgb(29\, 33\, 41)\; font-family:system-ui\,-apple-system\,system-ui\,.sfnstext-regular\,sans-serif\; font-size:14px">RSVP (800) 681-7904 - spaces are limited </span><br />\n<span style="color:rgb(29\, 33\, 41)\; font-family:system-ui\,-apple-system\,system-ui\,.sfnstext-regular\,sans-serif\; font-size:14px">-Enjoy wine\, appetizers\, goodie bag &amp\; special pricing on </span><br />\n<span style="color:rgb(29\, 33\, 41)\; font-family:system-ui\,-apple-system\,system-ui\,.sfnstext-regular\,sans-serif\; font-size:14px">-Pigment Correction Treatments &amp\; Products<br />\n___________________________________________________________________</span><br />\n<span style="color:rgb(29\, 33\, 41)\; font-family:system-ui\,-apple-system\,system-ui\,.sfnstext-regular\,sans-serif\; font-size:14px">HAPPY HOUR 12-3pm 20% OFF </span><br />\n<br />\n<span style="color:rgb(29\, 33\, 41)\; font-family:system-ui\,-apple-system\,system-ui\,.sfnstext-regular\,sans-serif\; font-size:14px">-HydraSonic (MAJOR upgrade to </span><a href="https://www.facebook.com/hydrafacial/" style="color: rgb(56\, 88\, 152)\; cursor: pointer\; text-decoration-line: none\; font-family: system-ui\, -apple-system\, system-ui\, &quot\;.SFNSText-Regular&quot\;\, sans-serif\; font-size: 14px\; white-space: pre-wrap\;" target="_blank">HydraFacial</a><span style="color:rgb(29\, 33\, 41)\; font-family:system-ui\,-apple-system\,system-ui\,.sfnstext-regular\,sans-serif\; font-size:14px">!!) or Dermaplaning w/ </span><a href="https://www.facebook.com/Intraceuticals/" style="color: rgb(56\, 88\, 152)\; cursor: pointer\; text-decoration-line: none\; font-family: system-ui\, -apple-system\, system-ui\, &quot\;.SFNSText-Regular&quot\;\, sans-serif\; font-size: 14px\; white-space: pre-wrap\;" target="_blank">Intraceuticals</a><span style="color:rgb(29\, 33\, 41)\; font-family:system-ui\,-apple-system\,system-ui\,.sfnstext-regular\,sans-serif\; font-size:14px"> </span><br />\n<span style="color:rgb(29\, 33\, 41)\; font-family:system-ui\,-apple-system\,system-ui\,.sfnstext-regular\,sans-serif\; font-size:14px">- </span><a href="https://www.facebook.com/LumeccaSkinRejuvenation/" style="color: rgb(56\, 88\, 152)\; cursor: pointer\; text-decoration-line: none\; font-family: system-ui\, -apple-system\, system-ui\, &quot\;.SFNSText-Regular&quot\;\, sans-serif\; font-size: 14px\; white-space: pre-wrap\;" target="_blank">Lumecca Skin Rejuvenation</a><span style="color:rgb(29\, 33\, 41)\; font-family:system-ui\,-apple-system\,system-ui\,.sfnstext-regular\,sans-serif\; font-size:14px"> </span><a href="https://www.facebook.com/hashtag/ipl" style="color: rgb(56\, 88\, 152)\; cursor: pointer\; text-decoration-line: none\; font-family: system-ui\, -apple-system\, system-ui\, &quot\;.SFNSText-Regular&quot\;\, sans-serif\; font-size: 14px\; white-space: pre-wrap\;" target="_blank">#IPL</a><span style="color:rgb(29\, 33\, 41)\; font-family:system-ui\,-apple-system\,system-ui\,.sfnstext-regular\,sans-serif\; font-size:14px"> or </span><a href="https://www.facebook.com/Diolaze-Laser-Hair-Removal-507166899332638/" style="color: rgb(56\, 88\, 152)\; cursor: pointer\; text-decoration-line: none\; font-family: system-ui\, -apple-system\, system-ui\, &quot\;.SFNSText-Regular&quot\;\, sans-serif\; font-size: 14px\; white-space: pre-wrap\;" target="_blank">Diolaze Laser Hair Removal</a><br />\n<span style="color:rgb(29\, 33\, 41)\; font-family:system-ui\,-apple-system\,system-ui\,.sfnstext-regular\,sans-serif\; font-size:14px">- </span><a href="https://www.facebook.com/Venus-Freeze-Plus-361628254608614/" style="color: rgb(56\, 88\, 152)\; cursor: pointer\; text-decoration-line: none\; font-family: system-ui\, -apple-system\, system-ui\, &quot\;.SFNSText-Regular&quot\;\, sans-serif\; font-size: 14px\; white-space: pre-wrap\;" target="_blank">Venus Freeze Plus</a><span style="color:rgb(29\, 33\, 41)\; font-family:system-ui\,-apple-system\,system-ui\,.sfnstext-regular\,sans-serif\; font-size:14px"> </span><a href="https://www.facebook.com/hashtag/skintightening" style="color: rgb(56\, 88\, 152)\; cursor: pointer\; text-decoration-line: none\; font-family: system-ui\, -apple-system\, system-ui\, &quot\;.SFNSText-Regular&quot\;\, sans-serif\; font-size: 14px\; white-space: pre-wrap\;" target="_blank">#SkinTightening</a><span style="color:rgb(29\, 33\, 41)\; font-family:system-ui\,-apple-system\,system-ui\,.sfnstext-regular\,sans-serif\; font-size:14px"> </span><br />\n<span style="color:rgb(29\, 33\, 41)\; font-family:system-ui\,-apple-system\,system-ui\,.sfnstext-regular\,sans-serif\; font-size:14px">- @allergan </span><a href="https://www.facebook.com/hashtag/botox" style="color: rgb(56\, 88\, 152)\; cursor: pointer\; text-decoration-line: none\; font-family: system-ui\, -apple-system\, system-ui\, &quot\;.SFNSText-Regular&quot\;\, sans-serif\; font-size: 14px\; white-space: pre-wrap\;" target="_blank">#Botox</a><span style="color:rgb(29\, 33\, 41)\; font-family:system-ui\,-apple-system\,system-ui\,.sfnstext-regular\,sans-serif\; font-size:14px"> $11.50/unit</span><br />\n<span style="color:rgb(29\, 33\, 41)\; font-family:system-ui\,-apple-system\,system-ui\,.sfnstext-regular\,sans-serif\; font-size:14px">- $75 OFF (1) </span><a href="https://www.facebook.com/Juvederm/" style="color: rgb(56\, 88\, 152)\; cursor: pointer\; text-decoration-line: none\; font-family: system-ui\, -apple-system\, system-ui\, &quot\;.SFNSText-Regular&quot\;\, sans-serif\; font-size: 14px\; white-space: pre-wrap\;" target="_blank">Juv&eacute\;derm</a><span style="color:rgb(29\, 33\, 41)\; font-family:system-ui\,-apple-system\,system-ui\,.sfnstext-regular\,sans-serif\; font-size:14px"> or $175 OFF (2) </span><br />\n<span style="color:rgb(29\, 33\, 41)\; font-family:system-ui\,-apple-system\,system-ui\,.sfnstext-regular\,sans-serif\; font-size:14px">___________________________________________________________________</span><br />\n<span style="color:rgb(29\, 33\, 41)\; font-family:system-ui\,-apple-system\,system-ui\,.sfnstext-regular\,sans-serif\; font-size:14px">BRITE &amp\; LITE </span><br />\n<br />\n<span style="color:rgb(29\, 33\, 41)\; font-family:system-ui\,-apple-system\,system-ui\,.sfnstext-regular\,sans-serif\; font-size:14px">- (3) IPL </span><br />\n<span style="color:rgb(29\, 33\, 41)\; font-family:system-ui\,-apple-system\,system-ui\,.sfnstext-regular\,sans-serif\; font-size:14px">- (3) </span><a href="https://www.facebook.com/pcaskin/" style="color: rgb(56\, 88\, 152)\; cursor: pointer\; text-decoration-line: none\; font-family: system-ui\, -apple-system\, system-ui\, &quot\;.SFNSText-Regular&quot\;\, sans-serif\; font-size: 14px\; white-space: pre-wrap\;" target="_blank">PCA SKIN</a><span style="color:rgb(29\, 33\, 41)\; font-family:system-ui\,-apple-system\,system-ui\,.sfnstext-regular\,sans-serif\; font-size:14px"> </span><a href="https://www.facebook.com/hashtag/chemicalpeels" style="color: rgb(56\, 88\, 152)\; cursor: pointer\; text-decoration-line: none\; font-family: system-ui\, -apple-system\, system-ui\, &quot\;.SFNSText-Regular&quot\;\, sans-serif\; font-size: 14px\; white-space: pre-wrap\;" target="_blank">#ChemicalPeels</a><br />\n<span style="color:rgb(29\, 33\, 41)\; font-family:system-ui\,-apple-system\,system-ui\,.sfnstext-regular\,sans-serif\; font-size:14px">- (3) Sun Repair Facials </span><br />\n<span style="color:rgb(29\, 33\, 41)\; font-family:system-ui\,-apple-system\,system-ui\,.sfnstext-regular\,sans-serif\; font-size:14px">- </span><a href="https://www.facebook.com/ZOSkinHealth/" style="color: rgb(56\, 88\, 152)\; cursor: pointer\; text-decoration-line: none\; font-family: system-ui\, -apple-system\, system-ui\, &quot\;.SFNSText-Regular&quot\;\, sans-serif\; font-size: 14px\; white-space: pre-wrap\;" target="_blank">ZO Skin Health</a><span style="color:rgb(29\, 33\, 41)\; font-family:system-ui\,-apple-system\,system-ui\,.sfnstext-regular\,sans-serif\; font-size:14px"> Anti-Aging Kit FREE</span><br />\n<span style="color:rgb(29\, 33\, 41)\; font-family:system-ui\,-apple-system\,system-ui\,.sfnstext-regular\,sans-serif\; font-size:14px">- </span><a href="https://www.facebook.com/tizoskin/" style="color: rgb(56\, 88\, 152)\; cursor: pointer\; text-decoration-line: none\; font-family: system-ui\, -apple-system\, system-ui\, &quot\;.SFNSText-Regular&quot\;\, sans-serif\; font-size: 14px\; white-space: pre-wrap\;" target="_blank">TIZO</a><span style="color:rgb(29\, 33\, 41)\; font-family:system-ui\,-apple-system\,system-ui\,.sfnstext-regular\,sans-serif\; font-size:14px"> </span><a href="https://www.facebook.com/hashtag/spf" style="color: rgb(56\, 88\, 152)\; cursor: pointer\; text-decoration-line: none\; font-family: system-ui\, -apple-system\, system-ui\, &quot\;.SFNSText-Regular&quot\;\, sans-serif\; font-size: 14px\; white-space: pre-wrap\;" target="_blank">#SPF</a><span style="color:rgb(29\, 33\, 41)\; font-family:system-ui\,-apple-system\,system-ui\,.sfnstext-regular\,sans-serif\; font-size:14px"> FREE</span><br />\n<span style="color:rgb(29\, 33\, 41)\; font-family:system-ui\,-apple-system\,system-ui\,.sfnstext-regular\,sans-serif\; font-size:14px">___________________________________________________________________</span><br />\n<span style="color:rgb(29\, 33\, 41)\; font-family:system-ui\,-apple-system\,system-ui\,.sfnstext-regular\,sans-serif\; font-size:14px">STAYCATION VIBES - 3 months to NEW SKIN!</span><br />\n<br />\n<span style="color:rgb(29\, 33\, 41)\; font-family:system-ui\,-apple-system\,system-ui\,.sfnstext-regular\,sans-serif\; font-size:14px">Skin Renew - 1 session monthly</span><br />\n<span style="color:rgb(29\, 33\, 41)\; font-family:system-ui\,-apple-system\,system-ui\,.sfnstext-regular\,sans-serif\; font-size:14px">-Dermalneedling w/Level 1 Peel</span><br />\n<span style="color:rgb(29\, 33\, 41)\; font-family:system-ui\,-apple-system\,system-ui\,.sfnstext-regular\,sans-serif\; font-size:14px">-Post Renew Facial w/ </span><a href="https://www.facebook.com/hashtag/led" style="color: rgb(56\, 88\, 152)\; cursor: pointer\; text-decoration-line: none\; font-family: system-ui\, -apple-system\, system-ui\, &quot\;.SFNSText-Regular&quot\;\, sans-serif\; font-size: 14px\; white-space: pre-wrap\;" target="_blank">#LED</a><br />\n<span style="color:rgb(29\, 33\, 41)\; font-family:system-ui\,-apple-system\,system-ui\,.sfnstext-regular\,sans-serif\; font-size:14px">- Post Tx Kit </span><br />\n<span style="color:rgb(29\, 33\, 41)\; font-family:system-ui\,-apple-system\,system-ui\,.sfnstext-regular\,sans-serif\; font-size:14px">$750 monthly (reg $930/month)</span><br />\n<br />\n<span style="color:rgb(29\, 33\, 41)\; font-family:system-ui\,-apple-system\,system-ui\,.sfnstext-regular\,sans-serif\; font-size:14px">Skin Refine - 1 session monthly </span><br />\n<span style="color:rgb(29\, 33\, 41)\; font-family:system-ui\,-apple-system\,system-ui\,.sfnstext-regular\,sans-serif\; font-size:14px">- Dermalneedling w/ </span><a href="https://www.facebook.com/selphyl/" style="color: rgb(56\, 88\, 152)\; cursor: pointer\; text-decoration-line: none\; font-family: system-ui\, -apple-system\, system-ui\, &quot\;.SFNSText-Regular&quot\;\, sans-serif\; font-size: 14px\; white-space: pre-wrap\;" target="_blank">SELPHYL</a><span style="color:rgb(29\, 33\, 41)\; font-family:system-ui\,-apple-system\,system-ui\,.sfnstext-regular\,sans-serif\; font-size:14px"> </span><a href="https://www.facebook.com/hashtag/prfm" style="color: rgb(56\, 88\, 152)\; cursor: pointer\; text-decoration-line: none\; font-family: system-ui\, -apple-system\, system-ui\, &quot\;.SFNSText-Regular&quot\;\, sans-serif\; font-size: 14px\; white-space: pre-wrap\;" target="_blank">#PRFM</a><br />\n<span style="color:rgb(29\, 33\, 41)\; font-family:system-ui\,-apple-system\,system-ui\,.sfnstext-regular\,sans-serif\; font-size:14px">- Post Refine Facial w/LED</span><br />\n<span style="color:rgb(29\, 33\, 41)\; font-family:system-ui\,-apple-system\,system-ui\,.sfnstext-regular\,sans-serif\; font-size:14px">- Post Tx Kit </span><br />\n<span style="color:rgb(29\, 33\, 41)\; font-family:system-ui\,-apple-system\,system-ui\,.sfnstext-regular\,sans-serif\; font-size:14px">$1500 monthly (reg $1780)</span><br />\n<br />\n<span style="color:rgb(29\, 33\, 41)\; font-family:system-ui\,-apple-system\,system-ui\,.sfnstext-regular\,sans-serif\; font-size:14px">Skin Remodel</span><br />\n<span style="color:rgb(29\, 33\, 41)\; font-family:system-ui\,-apple-system\,system-ui\,.sfnstext-regular\,sans-serif\; font-size:14px">- </span><a href="https://www.facebook.com/Fractora-Skin-Treatment-257680460912099/" style="color: rgb(56\, 88\, 152)\; cursor: pointer\; text-decoration-line: none\; font-family: system-ui\, -apple-system\, system-ui\, &quot\;.SFNSText-Regular&quot\;\, sans-serif\; font-size: 14px\; white-space: pre-wrap\;" target="_blank">Fractora Skin Treatment</a><span style="color:rgb(29\, 33\, 41)\; font-family:system-ui\,-apple-system\,system-ui\,.sfnstext-regular\,sans-serif\; font-size:14px"> &amp\; </span><a href="https://www.facebook.com/hashtag/prp" style="color: rgb(56\, 88\, 152)\; cursor: pointer\; text-decoration-line: none\; font-family: system-ui\, -apple-system\, system-ui\, &quot\;.SFNSText-Regular&quot\;\, sans-serif\; font-size: 14px\; white-space: pre-wrap\;" target="_blank">#PRP</a><br />\n<span style="color:rgb(29\, 33\, 41)\; font-family:system-ui\,-apple-system\,system-ui\,.sfnstext-regular\,sans-serif\; font-size:14px">- Post Resurfacing Facial w/ </span><a href="https://www.facebook.com/biopelle/" style="color: rgb(56\, 88\, 152)\; cursor: pointer\; text-decoration-line: none\; font-family: system-ui\, -apple-system\, system-ui\, &quot\;.SFNSText-Regular&quot\;\, sans-serif\; font-size: 14px\; white-space: pre-wrap\;" target="_blank">Biopelle</a><span style="color:rgb(29\, 33\, 41)\; font-family:system-ui\,-apple-system\,system-ui\,.sfnstext-regular\,sans-serif\; font-size:14px"> Growth Factor &amp\; LED</span><br />\n<span style="color:rgb(29\, 33\, 41)\; font-family:system-ui\,-apple-system\,system-ui\,.sfnstext-regular\,sans-serif\; font-size:14px">- Biopelle Repair Kit</span><br />\n<span style="color:rgb(29\, 33\, 41)\; font-family:system-ui\,-apple-system\,system-ui\,.sfnstext-regular\,sans-serif\; font-size:14px">$2500 (reg $3650)</span><br />\n<span style="color:rgb(29\, 33\, 41)\; font-family:system-ui\,-apple-system\,system-ui\,.sfnstext-regular\,sans-serif\; font-size:14px">___________________________________________________________________</span><br />\n<a href="https://www.facebook.com/PolishedRxSkinCouture/" style="color: rgb(56\, 88\, 152)\; cursor: pointer\; text-decoration-line: none\; font-family: system-ui\, -apple-system\, system-ui\, &quot\;.SFNSText-Regular&quot\;\, sans-serif\; font-size: 14px\; white-space: pre-wrap\;" target="_blank">Polished Rx Skin Couture</a><br />\n<span style="color:rgb(29\, 33\, 41)\; font-family:system-ui\,-apple-system\,system-ui\,.sfnstext-regular\,sans-serif\; font-size:14px">5708 E. 2nd St.\, Long Beach CA 90803</span><br />\n<a href="https://l.facebook.com/l.php?u=http%3A%2F%2Fwww.PolishedRx.com%2F%3Ffbclid%3DIwAR2RvXhYdIleUiP7hJrrA3UZclKoiV5Ae-OWoUWM1NrelGrZaIunQAOlrrM&amp\;h=AT3wtSZd8WQjCzo843qUfABq-xp2Cs2lbwmtKBA-I0mXKuuF6J8v06DMSZXi_b2uDcfgvtKtcmMwEnoaoLMIyNF0TpiYTNUJTwjPdc1qIOCI8PQhAxOr_n_E-zgS9iJqqB6BfK8" rel="nofollow noopener" style="color: rgb(56\, 88\, 152)\; cursor: pointer\; text-decoration-line: none\; font-family: system-ui\, -apple-system\, system-ui\, &quot\;.SFNSText-Regular&quot\;\, sans-serif\; font-size: 14px\; white-space: pre-wrap\;" target="_blank">www.PolishedRx.com</a><span style="color:rgb(29\, 33\, 41)\; font-family:system-ui\,-apple-system\,system-ui\,.sfnstext-regular\,sans-serif\; font-size:14px">\, Info@PolishedRx.com</span><br />\n<span style="color:rgb(29\, 33\, 41)\; font-family:system-ui\,-apple-system\,system-ui\,.sfnstext-regular\,sans-serif\; font-size:14px">(800) 681-7904</span><br />\n<br />\n<span style="color:rgb(29\, 33\, 41)\; font-family:system-ui\,-apple-system\,system-ui\,.sfnstext-regular\,sans-serif\; font-size:14px">Dr. Linda Hillebrand - Owner\, Michelle Kauffman - Founder</span><br />\n<br />\n<span style="color:rgb(29\, 33\, 41)\; font-family:system-ui\,-apple-system\,system-ui\,.sfnstext-regular\,sans-serif\; font-size:14px">**Specials cannot be combined\, transferred or refunded and are subject to availability. Spa Finders\, Yelp vouchers\, Care Credit and Gift Cards cannot be used to purchased special offers. GFE required prior to all medical services and prescription purchases. Valid through 6/30/19 or while supplies last. </span>
LOCATION:Polished Rx Skin Couture 5708 E. 2nd St.\, Long Beach CA 90803 www.PolishedRx.com
UID:e.1956.4532
SEQUENCE:3
DTSTAMP:20260419T193518Z
URL:https://business.lbchamber.com/events/details/pigmentation-myths-facts-staycation-vibes-happy-hour-4532
END:VEVENT

END:VCALENDAR
