BEGIN:VCALENDAR
VERSION:2.0
PRODID:-//ChamberMaster//Event Calendar 2.0//EN
METHOD:PUBLISH
X-PUBLISHED-TTL:P3D
REFRESH-INTERVAL:P3D
CALSCALE:GREGORIAN
BEGIN:VEVENT
DTSTART:20180428T170000Z
DTEND:20180428T230000Z
X-MICROSOFT-CDO-ALLDAYEVENT:FALSE
SUMMARY:Partners in Career Success Conference and Mini Job Fair for Yong Persons with Learning Differences and/or on the Autism Spectrum
DESCRIPTION:Let's Talk LD is pleased to announce that it is partnering with the College Internship Program Long Beach in producing "Partners in Career Success Conference and Mini Job Fair\," a re-imagining of the traditional career conference specifically designed for young people with learning differences and/or who are on the Autism Spectrum. This conference is intended for: students who are beginning the process of thinking about their post-secondary avocation or vocational planning\; parents who want to be a more effective partner in helping the student design her or his transition plan and identify appropriate job training opportunities in preparation for life after graduation\; transition professionals\, and\; high school counselors. The day's program will take conference participants on a journey where they will explore how to develop skills in SETTING CAREER GOALS\, ACQUIRING AND IMPROVING RELEVANT JOB SKILLS AND KNOWLEDGE\, ANALYZING CAREER TRENDS\, and NETWORKING\, REVIEWING AND UPDATING RESUME.
X-ALT-DESC;FMTTYPE=text/html:Let&#39\;s Talk LD is pleased to announce that it is partnering with the College Internship Program Long Beach in producing &ldquo\;Partners in Career Success Conference and Mini Job Fair\,&rdquo\; a re-imagining of the traditional career conference specifically designed for young people with learning differences and/or who are on the Autism Spectrum. This conference is intended for: students who are beginning the process of thinking about their post-secondary avocation or vocational planning\; parents who want to be a more effective partner in helping the student design her or his transition plan and identify appropriate job training opportunities in preparation for life after graduation\; transition professionals\, and\; high school counselors. The day&rsquo\;s program will take conference participants on a journey where they will explore how to develop skills in SETTING CAREER GOALS\, ACQUIRING AND IMPROVING RELEVANT JOB SKILLS AND KNOWLEDGE\, ANALYZING CAREER TRENDS\, and NETWORKING\, REVIEWING AND UPDATING RESUME.
LOCATION:CIP Long Beach 4510 E. Pacific Coast Hwy. Suite 100 Long Beach\, CA 90804
UID:e.1956.4294
SEQUENCE:3
DTSTAMP:20260420T155502Z
URL:https://business.lbchamber.com/events/details/partners-in-career-success-conference-and-mini-job-fair-for-yong-persons-with-learning-differences-and-or-on-the-autism-spectrum-4294
END:VEVENT

END:VCALENDAR
