BEGIN:VCALENDAR
VERSION:2.0
PRODID:-//ChamberMaster//Event Calendar 2.0//EN
METHOD:PUBLISH
X-PUBLISHED-TTL:P3D
REFRESH-INTERVAL:P3D
CALSCALE:GREGORIAN
BEGIN:VEVENT
DTSTART:20180912T020000Z
DTEND:20180912T040000Z
X-MICROSOFT-CDO-ALLDAYEVENT:FALSE
SUMMARY:Paint & Sip – Long Beach\, CA – “Tropical Bliss”
DESCRIPTION:Enjoy some brushstrokes and beverages at our Paint and Sip event in beautiful Long Beach\, CA. We'll be painting "Tropical Bliss" a fun tropical inspired piece. This fun painting will take place at Cafe Ambrosia\, a locally owned Greek restaurant located in the Alamitos Beach neighborhood. Enjoy a tasty drink from the venues bar while painting this fun vibrant plant painting. The instructor will guide you and your friends through two hours of lively creativity\, fun and lets be honest\, art is a form of therapy\, sometimes you just need a night out! The best part? You don't have to be an artist to have an amazing time. -CHEERS!
X-ALT-DESC;FMTTYPE=text/html:Enjoy some brushstrokes and beverages at our Paint and Sip event in beautiful Long Beach\, CA. We&#39\;ll be painting &quot\;Tropical Bliss&rdquo\; a fun tropical inspired piece. This fun painting will take place at Cafe Ambrosia\, a locally owned Greek restaurant located in the Alamitos Beach neighborhood. Enjoy a tasty drink from the venues bar while painting this fun vibrant plant painting. The instructor will guide you and your friends through two hours of lively creativity\, fun and lets be honest\, art is a form of therapy\, sometimes you just need a night out! The best part? You don&rsquo\;t have to be an artist to have an amazing time. -CHEERS!
LOCATION:Cafe Ambrosia 1923 E Broadway Long Beach\, CA 90802
UID:e.1956.4323
SEQUENCE:3
DTSTAMP:20260422T083737Z
URL:https://business.lbchamber.com/events/details/paint-sip-long-beach-ca-tropical-bliss-4323
END:VEVENT

END:VCALENDAR
