BEGIN:VCALENDAR
VERSION:2.0
PRODID:-//ChamberMaster//Event Calendar 2.0//EN
METHOD:PUBLISH
X-PUBLISHED-TTL:P3D
REFRESH-INTERVAL:P3D
CALSCALE:GREGORIAN
BEGIN:VEVENT
DTSTART:20150926T000000Z
DTEND:20150926T040000Z
X-MICROSOFT-CDO-ALLDAYEVENT:FALSE
SUMMARY:Operation Aloha
DESCRIPTION:Kick off your shoes and join OJS on the warm sands of a private beach at the Hotel Maya for a casual\, Aloha Friday sunset luau complete with dinner\, live music\, Polynesian dancing\, games\, auctions\, and aloha spirit!
X-ALT-DESC;FMTTYPE=text/html:Kick off your shoes and join OJS on the warm sands of a private beach at the Hotel Maya for a casual\, Aloha Friday sunset luau complete with dinner\, live music\, Polynesian dancing\, games\, auctions\, and aloha spirit!
LOCATION:Hotel Maya\, Long Beach
UID:e.1956.2491
SEQUENCE:3
DTSTAMP:20260423T233535Z
URL:https://business.lbchamber.com/events/details/operation-aloha-09-25-2015-2491
END:VEVENT

END:VCALENDAR
