BEGIN:VCALENDAR
VERSION:2.0
PRODID:-//ChamberMaster//Event Calendar 2.0//EN
METHOD:PUBLISH
X-PUBLISHED-TTL:P3D
REFRESH-INTERVAL:P3D
CALSCALE:GREGORIAN
BEGIN:VEVENT
DTSTART:20151120T013000Z
DTEND:20151120T033000Z
X-MICROSOFT-CDO-ALLDAYEVENT:FALSE
SUMMARY:Opening Reception & Ribbon Cutting Ceremony
DESCRIPTION:Please join us to celebrate the opening of our new Long Beach/Signal Hill branch..\n\n\n\nCelebrate our ribbon cutting with The Long Beach Area Chamber of Commerce.\n\n\n\nPlease join us for this special event featuring hors d'oeuvres and beverages.
X-ALT-DESC;FMTTYPE=text/html:<br />\nPlease join us to celebrate the opening of our new Long Beach/Signal Hill branch..<br />\n<br />\nCelebrate our ribbon cutting with The Long Beach Area Chamber of Commerce.<br />\n<br />\nPlease join us for this special event featuring hors d&#39\;oeuvres and beverages.
LOCATION:1442 E. 33rd Street - Signal Hill\, CA 90755
UID:e.1956.2559
SEQUENCE:3
DTSTAMP:20260420T194531Z
URL:https://business.lbchamber.com/events/details/opening-reception-ribbon-cutting-ceremony-11-19-2015-2559
END:VEVENT

END:VCALENDAR
