BEGIN:VCALENDAR
VERSION:2.0
PRODID:-//ChamberMaster//Event Calendar 2.0//EN
METHOD:PUBLISH
X-PUBLISHED-TTL:P3D
REFRESH-INTERVAL:P3D
CALSCALE:GREGORIAN
BEGIN:VEVENT
DTSTART:20141206T030000Z
DTEND:20141214T220000Z
X-MICROSOFT-CDO-ALLDAYEVENT:FALSE
SUMMARY:Nuncrackers
DESCRIPTION:The hilarious Little Sisters of Hoboken return with this seasonal musical spectacular that follows the action as the Reverend Mother and her flock get ready to tape a cable-access Christmas special out of their convent basement. With its typical Nunsense humor\, favorite holiday carols\, "Secret Santa" audience participation and parody songs like "Twelve Days Prior to Christmas"\, "We Three Kings of Orient Are Us" and "Santa Ain't Comin' to Our House"\, Nuncrackers is high-spirited fun for all."
X-ALT-DESC;FMTTYPE=text/html:The hilarious Little Sisters of Hoboken return with this seasonal musical spectacular that follows the action as the Reverend Mother and her flock get ready to tape a cable-access Christmas special out of their convent basement. With its typical Nunsense humor\, favorite holiday carols\, &quot\;Secret Santa&quot\; audience participation and parody songs like &quot\;Twelve Days Prior to Christmas&quot\;\, &quot\;We Three Kings of Orient Are Us&quot\; and &quot\;Santa Ain&#39\;t Comin&#39\; to Our House&quot\;\, Nuncrackers is high-spirited fun for all.&quot\;
LOCATION:Ernest Borgnine Theatre 855 Elm Avenue Long Beach\, CA 90813
UID:e.1956.2353
SEQUENCE:3
DTSTAMP:20260424T101306Z
URL:https://business.lbchamber.com/events/details/nuncrackers-12-05-2014-2353
END:VEVENT

END:VCALENDAR
