BEGIN:VCALENDAR
VERSION:2.0
PRODID:-//ChamberMaster//Event Calendar 2.0//EN
METHOD:PUBLISH
X-PUBLISHED-TTL:P3D
REFRESH-INTERVAL:P3D
CALSCALE:GREGORIAN
BEGIN:VEVENT
DTSTART:20180325T000000Z
DTEND:20180325T040000Z
X-MICROSOFT-CDO-ALLDAYEVENT:FALSE
SUMMARY:NIght At The Races
DESCRIPTION:Soroptimist International of Long Beach presents Night At The Races at Los Alamitos Race Course on Saturday\, March 24\, 2018 from 5:00 pm to 9:00 pm. Don your spats and pearls for this year's theme: "Guys and Dolls." The event will raise money to fund educational grants and scholarships for local women building a better life for themselves and their families. Ticket includes admission to the Race Course & Vessel's Club\, dinner and no-host bar\, live and silent auction\, and private betting window. Auction items include 2 round-trip domestic tickets on Southwest Airlines\, a year's supply of pies from Polly's Pies\, Winner's Circle photo opportunity\, Santa Anita race track tour\, and THUMS tour with lunch at Fuego. Come wine\, dine\, and play the ponies and help improve the lives of local women and girls. For more information\, go to www.soroptimist-longbeach.org or visit our Facebook page.
X-ALT-DESC;FMTTYPE=text/html:<span style="font-size:medium"><span style="font-family:tw cen mt"><span style="font-size:12pt">Soroptimist International of Long Beach presents Night At The Races at Los Alamitos Race Course on Saturday\, March 24\, 2018 from 5:00 pm to 9:00 pm. Don your spats and pearls for this year&#39\;s theme: &quot\;Guys and Dolls.&quot\; The event will raise money to fund educational grants and scholarships for local women building a better life for themselves and their families. Ticket includes admission to the Race Course &amp\; Vessel&#39\;s Club\, dinner and no-host bar\, live and silent auction\, and private betting window. Auction items include 2 round-trip domestic tickets on Southwest Airlines\, a year&#39\;s supply of pies from Polly&#39\;s Pies\, Winner&#39\;s Circle photo opportunity\, Santa Anita race track tour\, and THUMS tour with lunch at Fuego. Come wine\, dine\, and play the ponies and help improve the lives of local women and girls. For more information\, go to www.soroptimist-longbeach.org or visit our Facebook page.</span></span></span>
LOCATION:Los Alamitos Race Course 4961 Katella Avenue Los Alamitos\, CA 90720
UID:e.1956.4267
SEQUENCE:3
DTSTAMP:20260420T171618Z
URL:https://business.lbchamber.com/events/details/night-at-the-races-4267
END:VEVENT

END:VCALENDAR
