BEGIN:VCALENDAR
VERSION:2.0
PRODID:-//ChamberMaster//Event Calendar 2.0//EN
METHOD:PUBLISH
X-PUBLISHED-TTL:P3D
REFRESH-INTERVAL:P3D
CALSCALE:GREGORIAN
BEGIN:VEVENT
DTSTART:20140531T010000Z
DTEND:20140531T063000Z
X-MICROSOFT-CDO-ALLDAYEVENT:FALSE
SUMMARY:New Life Beginnings 30th Anniversary Dinner & Benefit Auction
DESCRIPTION:Please join in celebrating our\n\nThe Queen Mary\n\n1126 Queens Highway\n\nLong Beach\, CA 90802\n\norder of events\n\nFriday\, may 30th\, 2014\n\n30th Anniversary \n\n'Classic Cinema'\n\nDinner & Benefit Auction\n\nDoors open at 6:00 p.m.\n\nAppetizers\, Drinks\, & Silent Auction Bidding\n\n7:15 P.M.\n\nFirst Silent Auction Closing\n\n7:45 p.m. - 9:45 p.m.\n\nDinner & Live Auction\n\nAfter Party & Dancing with Fred & Ginger\n\nto be concluded by 11:30 p.m.\n\n\n\nDetails:\nEvening Attire: Black & White\n\nAdd a Classic old-hollywood feel\n\nNew This Year! rsvp online at www.Newlb.org\n\nRegister online and be included in a gift card drawing \n\nvalued at $100!\n\nOpportunity Ticket Drawings\n\nOpportunity tickets to be sold the night of the \n\nevent during the silent auction. choose to use \n\nyour opportunity tickets on a variety of our top \n\nauction items! Need not be present to win. \n\nFor more information\n\nincluding top auction items\, please \n\nvisit our website: newlb.org\n\nView Our Banquet Promotional Video\n\nVisit www.newlb.org \n\nWant to stay the night on the Queen Mary?\n\nCheck out your favorite online reservation group\n\n& book a night soon as weekend rooms are limited\n \n\nOur mission:\nis to provide physical shelter & spiritual refuge in a \n\ncompassionate & nurturing environment for \n\nabused and homeless pregnant women & their children.\n\nNew Life Beginnings relies on community donations \n\n& fundraising as we receive no government funding.\n\nYour financial support at this event and throughout \n\nthe year is greatly appreciated.
X-ALT-DESC;FMTTYPE=text/html:<div>Please join in celebrating our</div>\n\n<div>The Queen Mary</div>\n\n<div>1126 Queens Highway</div>\n\n<div>Long Beach\, CA 90802</div>\n\n<div>order of events</div>\n\n<div>Friday\, may 30th\, 2014</div>\n\n<div>30th Anniversary&nbsp\;</div>\n\n<div>&lsquo\;Classic Cinema&rsquo\;</div>\n\n<div>Dinner &amp\; Benefit Auction</div>\n\n<div>Doors open at 6:00 p.m.</div>\n\n<div>Appetizers\, Drinks\, &amp\; Silent Auction Bidding</div>\n\n<div>7:15 P.M.</div>\n\n<div>First Silent Auction Closing</div>\n\n<div>7:45 p.m. - 9:45 p.m.</div>\n\n<div>Dinner &amp\; Live Auction</div>\n\n<div>After Party &amp\; Dancing with Fred &amp\; Ginger</div>\n\n<div>to be concluded by 11:30 p.m.<br />\n<br />\nDetails:\n<div>Evening Attire: Black &amp\; White</div>\n\n<div>Add a Classic old-hollywood feel</div>\n\n<div>New This Year! rsvp online at www.Newlb.org</div>\n\n<div>Register online and be included in a gift card drawing&nbsp\;</div>\n\n<div>valued at $100!</div>\n\n<div>Opportunity Ticket Drawings</div>\n\n<div>Opportunity tickets to be sold the night of the&nbsp\;</div>\n\n<div>event during the silent auction. choose to use&nbsp\;</div>\n\n<div>your opportunity tickets on a variety of our top&nbsp\;</div>\n\n<div>auction items! Need not be present to win.&nbsp\;</div>\n\n<div>For more information</div>\n\n<div>including top auction items\, please&nbsp\;</div>\n\n<div>visit our website: newlb.org</div>\n\n<div>View Our Banquet Promotional Video</div>\n\n<div>Visit www.newlb.org&nbsp\;</div>\n\n<div>Want to stay the night on the Queen Mary?</div>\n\n<div>Check out your favorite online reservation group</div>\n\n<div>&amp\; book a night soon as weekend rooms are limited</div>\n&nbsp\;<br />\nOur mission:\n<div>is to provide physical shelter &amp\; spiritual refuge in a&nbsp\;</div>\n\n<div>compassionate &amp\; nurturing environment for&nbsp\;</div>\n\n<div>abused and homeless pregnant women &amp\; their children.</div>\n\n<div>New Life Beginnings relies on community donations&nbsp\;</div>\n\n<div>&amp\; fundraising as we receive no government funding.</div>\n\n<div>Your financial support at this event and throughout&nbsp\;</div>\n\n<div>the year is greatly appreciated.</div>\n</div>\n
LOCATION:The Queen Mary 1126 Queens Highway Long Beach\, CA 90802
UID:e.1956.1239
SEQUENCE:3
DTSTAMP:20260424T194528Z
URL:https://business.lbchamber.com/events/details/new-life-beginnings-30th-anniversary-dinner-benefit-auction-05-30-2014-1239
END:VEVENT

END:VCALENDAR
