BEGIN:VCALENDAR
VERSION:2.0
PRODID:-//ChamberMaster//Event Calendar 2.0//EN
METHOD:PUBLISH
X-PUBLISHED-TTL:P3D
REFRESH-INTERVAL:P3D
CALSCALE:GREGORIAN
BEGIN:VEVENT
DTSTART:20150419T003000Z
DTEND:20150419T053000Z
X-MICROSOFT-CDO-ALLDAYEVENT:FALSE
SUMMARY:New Image Emergency Shelter for the Homeless\, Inc. "4th Charity Voyage"
DESCRIPTION:New Image will be hosting it?s ?4th Charity Voyage? fundraiser on April 18\, 2015. Again\, it will be held aboard the 400-passenger luxury\, Pacific Avalon Yacht\, ?The Majestic?. It is a Black-Tie/Formal affair\, and includes:   A Hosted 1 Hour Reception\, with hand-served Hors d?oeuvres   A 5- Course Savory Gourmet Dinner with Complimentary Wine   Brief Program Acknowledging Supporters   Entertainment~ Musicians\, Comedian\, Magician\, Ventriloquist\, Impressionist   Celebrity Guests   Silent Auction (Vacation Get-a-ways)   Raffle (Free Carnival Cruise Giveaway)   Departure Gift Bag The proceeds from the fundraiser will benefit New Image Core Operations and include Comprehensive Case Management\, financial Move-In\, Rental and Utility Assistance and Emergency Hotel Vouchers for Homeless Individuals and Families with Children\, while Transitional or Permanent housing can be found and secured. Additionally\, this event is a great opportunity for you to wine and dine your Clients\, Colleagues\, Staff\, Board\, and/or Friends and Family. We can ensure you that it will be the time of their lives (AND for a GOOD CAUSE)\, as it comes with delicious food\, good librations\, exciting entertainment\, and great networking opportunities. This is a Black-Tie event which is publicized in the local newspapers and through social media\, therefore all of our Corporate Sponsors will be widely recognized. All Corporate Sponsors will receive an advertisement opportunity in the events Commemorative Journal\, which will be viewed by over 500 attendees\, including city dignitaries\, and celebrities.
X-ALT-DESC;FMTTYPE=text/html:New Image will be hosting it?s ?4th Charity Voyage? fundraiser on April 18\, 2015. Again\, it will be held aboard the 400-passenger luxury\, Pacific Avalon Yacht\, ?The Majestic?. It is a Black-Tie/Formal affair\, and includes: &middot\; A Hosted 1 Hour Reception\, with hand-served Hors d?oeuvres &middot\; A 5- Course Savory Gourmet Dinner with Complimentary Wine &middot\; Brief Program Acknowledging Supporters &middot\; Entertainment~ Musicians\, Comedian\, Magician\, Ventriloquist\, Impressionist &middot\; Celebrity Guests &middot\; Silent Auction (Vacation Get-a-ways) &middot\; Raffle (Free Carnival Cruise Giveaway) &middot\; Departure Gift Bag The proceeds from the fundraiser will benefit New Image Core Operations and include Comprehensive Case Management\, financial Move-In\, Rental and Utility Assistance and Emergency Hotel Vouchers for Homeless Individuals and Families with Children\, while Transitional or Permanent housing can be found and secured. Additionally\, this event is a great opportunity for you to wine and dine your Clients\, Colleagues\, Staff\, Board\, and/or Friends and Family. We can ensure you that it will be the time of their lives (AND for a GOOD CAUSE)\, as it comes with delicious food\, good librations\, exciting entertainment\, and great networking opportunities. This is a Black-Tie event which is publicized in the local newspapers and through social media\, therefore all of our Corporate Sponsors will be widely recognized. All Corporate Sponsors will receive an advertisement opportunity in the events Commemorative Journal\, which will be viewed by over 500 attendees\, including city dignitaries\, and celebrities.
LOCATION:141 E. 22nd St. San Pedro\, CA 90731
UID:e.1956.2432
SEQUENCE:3
DTSTAMP:20260424T044122Z
URL:https://business.lbchamber.com/events/details/new-image-emergency-shelter-for-the-homeless-inc-4th-charity-voyage-04-18-2015-2432
END:VEVENT

END:VCALENDAR
