BEGIN:VCALENDAR
VERSION:2.0
PRODID:-//ChamberMaster//Event Calendar 2.0//EN
METHOD:PUBLISH
X-PUBLISHED-TTL:P3D
REFRESH-INTERVAL:P3D
CALSCALE:GREGORIAN
BEGIN:VEVENT
DTSTART:20151024T160000Z
DTEND:20151024T200000Z
X-MICROSOFT-CDO-ALLDAYEVENT:FALSE
SUMMARY:Moving Day® Los Angeles
DESCRIPTION:Moving Day  is the National Parkinson Foundation?s annual fundraising walk. It is a fun and inspiring event that unites families\, friends and communities large and small in the fight against Parkinson?s disease. This celebration of movement will feature a family friendly walk course\, a kids area\, and a special Movement Pavilion featuring yoga\, dance\, Tai Chi\, Pilates\, etc\, all proven to help manage the symptoms of PD. It will be 'A day to move\, a day to move others\, a day that moves YOU!'
X-ALT-DESC;FMTTYPE=text/html:Moving Day&reg\; is the National Parkinson Foundation?s annual fundraising walk. It is a fun and inspiring event that unites families\, friends and communities large and small in the fight against Parkinson?s disease. This celebration of movement will feature a family friendly walk course\, a kids area\, and a special Movement Pavilion featuring yoga\, dance\, Tai Chi\, Pilates\, etc\, all proven to help manage the symptoms of PD. It will be &#39\;A day to move\, a day to move others\, a day that moves YOU!&#39\;
LOCATION:Shoreline Aquatic Park\, Long Beach\, CA
UID:e.1956.2488
SEQUENCE:3
DTSTAMP:20260423T223618Z
URL:https://business.lbchamber.com/events/details/moving-day-los-angeles-10-24-2015-2488
END:VEVENT

END:VCALENDAR
