BEGIN:VCALENDAR
VERSION:2.0
PRODID:-//ChamberMaster//Event Calendar 2.0//EN
METHOD:PUBLISH
X-PUBLISHED-TTL:P3D
REFRESH-INTERVAL:P3D
CALSCALE:GREGORIAN
BEGIN:VEVENT
DTSTART:20190725T020000Z
DTEND:20190725T050000Z
X-MICROSOFT-CDO-ALLDAYEVENT:FALSE
SUMMARY:Movies at the Museum - Who Framed Roger Rabbit
DESCRIPTION:Catalina Island Museum hosts family-friendly Movies at the Museum\, an annual summer program taking advantage of our outdoor amphitheater and Avalon's beautiful summer nights.Who Framed Roger Rabbit (1988) combines live action and animated characters coming together to solve a very confusing case. Bring the whole family for an action-packed night of fun! Who Framed Roger Rabbit is rated PG. Wine\, beer and a variety of movie snacks will be available for purchase.
X-ALT-DESC;FMTTYPE=text/html:Catalina Island Museum hosts family-friendly Movies at the Museum\, an annual summer program taking advantage of our outdoor amphitheater and Avalon&#39\;s beautiful summer nights.Who Framed Roger Rabbit (1988) combines live action and animated characters coming together to solve a very confusing case. Bring the whole family for an action-packed night of fun! Who Framed Roger Rabbit is rated PG. Wine\, beer and a variety of movie snacks will be available for purchase.
LOCATION:Catalina Island Museum 217 Metropole Avenue\, Avalon CA 90704
UID:e.1956.4543
SEQUENCE:3
DTSTAMP:20260419T181638Z
URL:https://business.lbchamber.com/events/details/movies-at-the-museum-who-framed-roger-rabbit-4543
END:VEVENT

END:VCALENDAR
