BEGIN:VCALENDAR
VERSION:2.0
PRODID:-//ChamberMaster//Event Calendar 2.0//EN
METHOD:PUBLISH
X-PUBLISHED-TTL:P3D
REFRESH-INTERVAL:P3D
CALSCALE:GREGORIAN
BEGIN:VEVENT
DTSTART:20190511T220000Z
DTEND:20190511T230000Z
X-MICROSOFT-CDO-ALLDAYEVENT:FALSE
SUMMARY:Mom's Turn Book Reading at Gatsby Books
DESCRIPTION:Hosted by Jennika Ingram. Please join us for a free reading and discussion of Mom's Turn: A journal for the first year of motherhood and stories to stay empowered at Gatsby Books\, May 11th\, 2019 at 3 pm. Book Reading\, Q&A\, Book signing. This book is for everyone heading to a baby shower\, anyone who knows a new mom\, or any woman embarking on motherhood for the first time or again. Author and reporter Jennika Ingram interviewed moms across North America about what they wish they knew in that first year and shares their insights to make that important first year easier and help ward off postpartum. The reading is open to the public.
X-ALT-DESC;FMTTYPE=text/html:Hosted by Jennika Ingram. Please join us for a free reading and discussion of Mom&rsquo\;s Turn: A journal for the first year of motherhood and stories to stay empowered at Gatsby Books\, May 11th\, 2019 at 3 pm. Book Reading\, Q&amp\;A\, Book signing. This book is for everyone heading to a baby shower\, anyone who knows a new mom\, or any woman embarking on motherhood for the first time or again. Author and reporter Jennika Ingram interviewed moms across North America about what they wish they knew in that first year and shares their insights to make that important first year easier and help ward off postpartum. The reading is open to the public.
LOCATION:Gatsby Books at 5535 E Spring St\, Long Beach\, CA 90808
UID:e.1956.4447
SEQUENCE:3
DTSTAMP:20260419T210942Z
URL:https://business.lbchamber.com/events/details/mom-s-turn-book-reading-at-gatsby-books-4447
END:VEVENT

END:VCALENDAR
