BEGIN:VCALENDAR
VERSION:2.0
PRODID:-//ChamberMaster//Event Calendar 2.0//EN
METHOD:PUBLISH
X-PUBLISHED-TTL:P3D
REFRESH-INTERVAL:P3D
CALSCALE:GREGORIAN
BEGIN:VEVENT
DTSTART:20160117T210000Z
DTEND:20160118T000000Z
X-MICROSOFT-CDO-ALLDAYEVENT:FALSE
SUMMARY:MOLAA presents Who Are You? exhibition opening reception
DESCRIPTION:Who Are You? presents artwork from MOLAA's Permanent Collection and work by local artists that creates a visual dialogue while exploring issues of identity. Come find out who you are\, meet the artists and enjoy gallery tours and workshops.
X-ALT-DESC;FMTTYPE=text/html:Who Are You? presents artwork from MOLAA&#39\;s Permanent Collection and work by local artists that creates a visual dialogue while exploring issues of identity. Come find out who you are\, meet the artists and enjoy gallery tours and workshops.
LOCATION:Museum of Latin American Art (MOLAA) 628 Alamitos Avenue Long Beach\, CA 90802
UID:e.1956.2571
SEQUENCE:3
DTSTAMP:20260424T100158Z
URL:https://business.lbchamber.com/events/details/molaa-presents-who-are-you-exhibition-opening-reception-01-17-2016-2571
END:VEVENT

END:VCALENDAR
