BEGIN:VCALENDAR
VERSION:2.0
PRODID:-//ChamberMaster//Event Calendar 2.0//EN
METHOD:PUBLISH
X-PUBLISHED-TTL:P3D
REFRESH-INTERVAL:P3D
CALSCALE:GREGORIAN
BEGIN:VEVENT
DTSTART:20190614T233000Z
DTEND:20190615T020000Z
X-MICROSOFT-CDO-ALLDAYEVENT:FALSE
SUMMARY:Mi Grus
DESCRIPTION:Press Contact Company: Mil Grus ' WHO: MIL GRUS WHAT: World Premiere of "Mil Grus" at the 2019 Hollywood Fringe Festival. WHEN: FRIDAY JUNE 9 \, -4:30PM FRIDAYJUNE 14 - 10:30PM SUNDAY JUNE 16   3:30PM FRIDAY JUNE 21   8:30PM SUNDAY JUNE 23   7:00PM WHERE: McCadden Theatre 1157 N. McCadden Place\, Los Angeles\, CA 90038\, USA Short version. PHOTO AVAILABLE LA's premier Bouffon troupe is a motley crew of miscreants who have crawled out of the gutter to make you question reality. This timeless satire features improvised feats of physical and existential comedy that defy explanation and provoke unfettered\, eery glee. Come see what's behind the curtain... Company members\; Isaac Kessler\, Jenson Lavalee \, Grayson Morris\, Jeremy Sapp\, Helene Udy. Directed By Dean Evans
X-ALT-DESC;FMTTYPE=text/html:Press Contact Company: Mil Grus &#39\; WHO: MIL GRUS WHAT: World Premiere of &ldquo\;Mil Grus&rdquo\; at the 2019 Hollywood Fringe Festival. WHEN: FRIDAY JUNE 9 \, -4:30PM FRIDAYJUNE 14 - 10:30PM SUNDAY JUNE 16 &ndash\; 3:30PM FRIDAY JUNE 21 &ndash\; 8:30PM SUNDAY JUNE 23 &ndash\; 7:00PM WHERE: McCadden Theatre 1157 N. McCadden Place\, Los Angeles\, CA 90038\, USA Short version. PHOTO AVAILABLE LA&rsquo\;s premier Bouffon troupe is a motley crew of miscreants who have crawled out of the gutter to make you question reality. This timeless satire features improvised feats of physical and existential comedy that defy explanation and provoke unfettered\, eery glee. Come see what&#39\;s behind the curtain... Company members\; Isaac Kessler\, Jenson Lavalee \, Grayson Morris\, Jeremy Sapp\, Helene Udy. Directed By Dean Evans
LOCATION:1157 N. McCadden Place\, Los Angeles\, CA 90038\, USA
UID:e.1956.4512
SEQUENCE:3
DTSTAMP:20260419T192920Z
URL:https://business.lbchamber.com/events/details/mi-grus-4512
END:VEVENT

END:VCALENDAR
