BEGIN:VCALENDAR
VERSION:2.0
PRODID:-//ChamberMaster//Event Calendar 2.0//EN
METHOD:PUBLISH
X-PUBLISHED-TTL:P3D
REFRESH-INTERVAL:P3D
CALSCALE:GREGORIAN
BEGIN:VEVENT
DTSTART:20150108T193000Z
DTEND:20150108T213000Z
X-MICROSOFT-CDO-ALLDAYEVENT:FALSE
SUMMARY:Meet The New LA County Assessor
DESCRIPTION:The Women's Business Council is honored to host our newly elected LA County Assessor Jeff Prang and welcome him to the City of Long Beach.\n\nLearn about . \n\nHis History in LA County\n\nHis Vision for the Office\n\nReal Estate Taxes   What's Ahead in 2015 \n\nReal Estate Scam & How to Avoid Them
X-ALT-DESC;FMTTYPE=text/html:<span style="font-size:12px\;"><span style="color:black\;">The Women&rsquo\;s Business Council is honored to host our newly elected LA County Assessor Jeff Prang and welcome him to the City of Long Beach.<br />\n<span style="font-family:cambria\;">Learn about&hellip\;. </span></span><br />\n<span style="color:black\;"><span style="font-family:cambria\;">His History in LA County</span></span><br />\n<span style="color:black\;"><span style="font-family:cambria\;">His Vision for the Office</span></span><br />\n<span style="color:black\;"><span style="font-family:cambria\;">Real Estate Taxes &ndash\; What&rsquo\;s Ahead in 2015 </span></span><br />\n<span style="color:black\;"><span style="font-family:cambria\;">Real Estate Scam &amp\; How to Avoid Them</span></span><br />\n&nbsp\;</span><br />\n<br />\n&nbsp\;
LOCATION:Renaissance Long Beach Hotel 111 East Ocean Blvd. Long Beach\, 90802 (complimentary parking)
UID:e.1956.2360
SEQUENCE:3
DTSTAMP:20260422T030956Z
URL:https://business.lbchamber.com/events/details/meet-the-new-la-county-assessor-01-08-2015-2360
END:VEVENT

END:VCALENDAR
