BEGIN:VCALENDAR
VERSION:2.0
PRODID:-//ChamberMaster//Event Calendar 2.0//EN
METHOD:PUBLISH
X-PUBLISHED-TTL:P3D
REFRESH-INTERVAL:P3D
CALSCALE:GREGORIAN
BEGIN:VEVENT
DTSTART:20150421T170000Z
DTEND:20150421T174500Z
X-MICROSOFT-CDO-ALLDAYEVENT:FALSE
SUMMARY:Manufacturers and Distributors: Control Your Warehouse Easier
DESCRIPTION:Join us for a special business technology webinar for Manufacturers and Distributors: Control Your Warehouse Easier with SalesPad and Dynamics GP Bond Consulting Services partners with SalesPad to deliver an all-in-one order entry\, inventory\, accounting\, and sales management software solution to our customers. It integrates seamlessly with Microsoft Dynamics GP so you can customize your customer data. SMBs\, Enterprises and Business Technology Decision Makers welcome. See all of our events here: http://bit.ly/BCSTeamWebinars
X-ALT-DESC;FMTTYPE=text/html:Join us for a special business technology webinar for Manufacturers and Distributors: Control Your Warehouse Easier with SalesPad and Dynamics GP Bond Consulting Services partners with SalesPad to deliver an all-in-one order entry\, inventory\, accounting\, and sales management software solution to our customers. It integrates seamlessly with Microsoft Dynamics GP so you can customize your customer data. SMBs\, Enterprises and Business Technology Decision Makers welcome. See all of our events here: http://bit.ly/BCSTeamWebinars
LOCATION:Online
UID:e.1956.2420
SEQUENCE:3
DTSTAMP:20260424T043943Z
URL:https://business.lbchamber.com/events/details/manufacturers-and-distributors-control-your-warehouse-easier-04-21-2015-2420
END:VEVENT

END:VCALENDAR
