BEGIN:VCALENDAR
VERSION:2.0
PRODID:-//ChamberMaster//Event Calendar 2.0//EN
METHOD:PUBLISH
X-PUBLISHED-TTL:P3D
REFRESH-INTERVAL:P3D
CALSCALE:GREGORIAN
BEGIN:VEVENT
DTSTART:20150702T230000Z
DTEND:20150703T020000Z
X-MICROSOFT-CDO-ALLDAYEVENT:FALSE
SUMMARY:Low Cost Mobile Vaccine Clinic
DESCRIPTION:Low cost mobile clinic\; low cost vaccines\, mircochips\, flea & tick treatment for cats & dogs\,free examinations by veterinarian. We also book spay and neuter appointments for your pets!
X-ALT-DESC;FMTTYPE=text/html:Low cost mobile clinic\; low cost vaccines\, mircochips\, flea &amp\; tick treatment for cats &amp\; dogs\,free examinations by veterinarian. We also book spay and neuter appointments for your pets!
LOCATION:Scherer Park (Next to Uptown Dog Park)
UID:e.1956.2480
SEQUENCE:3
DTSTAMP:20260424T015526Z
URL:https://business.lbchamber.com/events/details/low-cost-mobile-vaccine-clinic-07-02-2015-2480
END:VEVENT

END:VCALENDAR
