BEGIN:VCALENDAR
VERSION:2.0
PRODID:-//ChamberMaster//Event Calendar 2.0//EN
METHOD:PUBLISH
X-PUBLISHED-TTL:P3D
REFRESH-INTERVAL:P3D
CALSCALE:GREGORIAN
BEGIN:VEVENT
DTSTART:20170420T003000Z
DTEND:20170420T023000Z
X-MICROSOFT-CDO-ALLDAYEVENT:FALSE
SUMMARY:Long Beach Young Professionals Social
DESCRIPTION:Join us for our monthly networking event for the Long Beach Young Professionals. This month\, we'll be having a social mixer at James Republic\, the restaurant at the Courtyard Marriott in Long Beach. Please register online\, as space is limited!
X-ALT-DESC;FMTTYPE=text/html:<br />\n<span style="color: rgb(64\, 63\, 66)\; font-family: Helvetica\, Calibri\, Arial\, sans-serif\; font-size: 13.3333px\;">Join us for our monthly networking event for the Long Beach Young Professionals. This month\, we&#39\;ll be having a social mixer at&nbsp\;</span>James Republic\, the restaurant at the Courtyard Marriott<span style="color: rgb(64\, 63\, 66)\; font-family: Helvetica\, Calibri\, Arial\, sans-serif\; font-size: 13.3333px\;">&nbsp\;in Long Beach. Please register online\, as space is limited!</span>
LOCATION:James Republic Restaurant Courtyard Marriott Long Beach 500 E First St Long Beach\, CA 90802
UID:e.1956.3087
SEQUENCE:3
DTSTAMP:20260419T190936Z
URL:https://business.lbchamber.com/events/details/long-beach-young-professionals-social-3087
END:VEVENT

END:VCALENDAR
