BEGIN:VCALENDAR
VERSION:2.0
PRODID:-//ChamberMaster//Event Calendar 2.0//EN
METHOD:PUBLISH
X-PUBLISHED-TTL:P3D
REFRESH-INTERVAL:P3D
CALSCALE:GREGORIAN
BEGIN:VEVENT
DTSTART:20151029T003000Z
DTEND:20151029T023000Z
X-MICROSOFT-CDO-ALLDAYEVENT:FALSE
SUMMARY:Long Beach Young Professionals Social
DESCRIPTION:Join us for our October LBYP Social - Speed Networking\n\n\n\nIt was a hit last time and it's back again!  Download that favorite business card app or bring plenty of the old fashioned type and have that elevator pitch ready because our good friends at Halbert Hargrove are hosting us once again for Speed Networking Social! Drinks and appetizers will be hosted while taking in the great view from the 23rd floor balcony.
X-ALT-DESC;FMTTYPE=text/html:<em><strong>Join us for our October&nbsp\;LBYP Social - Speed Networking</strong></em><br />\n<br />\n<font color="#000000" face="Arial\, Helvetica\, sans-serif"><span style="font-size: 13.3333px\; line-height: normal\;">It was a hit last time and it&#39\;s back again! &nbsp\;Download that favorite business card app or bring plenty of the old fashioned type and have that elevator pitch ready because our good friends at Halbert Hargrove are hosting us once again for Speed Networking Social! Drinks and appetizers will be hosted while taking in the great view from the 23rd floor balcony.</span></font>
LOCATION:Halbert Hargrove 111 W. Ocean Blvd.\, 23rd Floor Long Beach\, CA 90802
UID:e.1956.2532
SEQUENCE:3
DTSTAMP:20260420T205751Z
URL:https://business.lbchamber.com/events/details/long-beach-young-professionals-social-10-28-2015-2532
END:VEVENT

END:VCALENDAR
