BEGIN:VCALENDAR
VERSION:2.0
PRODID:-//ChamberMaster//Event Calendar 2.0//EN
METHOD:PUBLISH
X-PUBLISHED-TTL:P3D
REFRESH-INTERVAL:P3D
CALSCALE:GREGORIAN
BEGIN:VEVENT
DTSTART:20150625T003000Z
DTEND:20150625T023000Z
X-MICROSOFT-CDO-ALLDAYEVENT:FALSE
SUMMARY:Long Beach Young Professionals Social
DESCRIPTION:Join us for our June LBYP Social!
X-ALT-DESC;FMTTYPE=text/html:&nbsp\; &nbsp\; Join us for our June LBYP Social!
LOCATION:BO-Beau Kitchen + Roof Tap 144 Pine Ave\, Long Beach\, CA 90802
UID:e.1956.2466
SEQUENCE:3
DTSTAMP:20260421T192557Z
URL:https://business.lbchamber.com/events/details/long-beach-young-professionals-social-06-24-2015-2466
END:VEVENT

END:VCALENDAR
