BEGIN:VCALENDAR
VERSION:2.0
PRODID:-//ChamberMaster//Event Calendar 2.0//EN
METHOD:PUBLISH
X-PUBLISHED-TTL:P3D
REFRESH-INTERVAL:P3D
CALSCALE:GREGORIAN
BEGIN:VEVENT
DTSTART:20150423T003000Z
DTEND:20150423T023000Z
X-MICROSOFT-CDO-ALLDAYEVENT:FALSE
SUMMARY:Long Beach Young Professionals Social
DESCRIPTION:Come join the Long Beach Young Professionals for a fun filled night of networking while in the exclusive Upper Deck at The Federal Bar. Enjoy delicious hors d'oeuvres\, no host bar and make new connections.\n\nWe hope to see you there!
X-ALT-DESC;FMTTYPE=text/html:Come join the Long Beach Young Professionals for a fun filled night of networking while in the exclusive Upper Deck at The Federal Bar. Enjoy delicious hors d&#39\;oeuvres\, no host bar and make new connections.<br />\nWe hope to see you there!&nbsp\; &nbsp\;
LOCATION:The Federal Bar 102 Pine Ave. Long Beach\, CA 90802
UID:e.1956.2430
SEQUENCE:3
DTSTAMP:20260421T223056Z
URL:https://business.lbchamber.com/events/details/long-beach-young-professionals-social-04-22-2015-2430
END:VEVENT

END:VCALENDAR
