BEGIN:VCALENDAR
VERSION:2.0
PRODID:-//ChamberMaster//Event Calendar 2.0//EN
METHOD:PUBLISH
X-PUBLISHED-TTL:P3D
REFRESH-INTERVAL:P3D
CALSCALE:GREGORIAN
BEGIN:VEVENT
DTSTART:20150226T013000Z
DTEND:20150226T033000Z
X-MICROSOFT-CDO-ALLDAYEVENT:FALSE
SUMMARY:Long Beach Young Professionals Social
DESCRIPTION:Come join us for a night of fun with the best view in town! Cielo (formerly the Up Lounge) at the Sky Room will take your breath away!\n\n\n\nAppetizers will be provided. No host bar.
X-ALT-DESC;FMTTYPE=text/html:Come join us for a night of fun with the best view in town! Cielo <em>(formerly the Up Lounge)</em> at the Sky Room will take your breath away!<br />\n<br />\nAppetizers will be provided. No host bar.
LOCATION:The Sky Room 40 S. Locust Ave. Long Beach\, CA 90802
UID:e.1956.2392
SEQUENCE:3
DTSTAMP:20260422T013050Z
URL:https://business.lbchamber.com/events/details/long-beach-young-professionals-social-02-25-2015-2392
END:VEVENT

END:VCALENDAR
