BEGIN:VCALENDAR
VERSION:2.0
PRODID:-//ChamberMaster//Event Calendar 2.0//EN
METHOD:PUBLISH
X-PUBLISHED-TTL:P3D
REFRESH-INTERVAL:P3D
CALSCALE:GREGORIAN
BEGIN:VEVENT
DTSTART:20170524T143000Z
DTEND:20170524T160000Z
X-MICROSOFT-CDO-ALLDAYEVENT:FALSE
SUMMARY:Long Beach Young Professionals Networking Breakfast - May 2017
DESCRIPTION:A Conversation about Professional Development by Successful Women Leaders in Business\n\n\n\nConversation panel featuring:\n\n\n\nKristi Allen\, Vice President of Hotel Operations\, Hotel Maya\n\nMarcelle Epley\, President & CEO\, Long Beach Community Foundation\n\nDebra Russell\, VP of Community Relations and Real Estate\, Signal Hill Petroleum\n\n\n\nSpecial Moderator: Councilwoman Suzie Price
X-ALT-DESC;FMTTYPE=text/html:<br />\nA Conversation about Professional Development by Successful Women Leaders in Business<br />\n<br />\n<em>Conversation panel featuring:</em><br />\n<br />\n<strong>Kristi Allen</strong>\, Vice President of Hotel Operations\, Hotel Maya<br />\n<strong>Marcelle Epley</strong>\, President &amp\; CEO\, Long Beach Community Foundation<br />\n<strong>Debra Russell</strong>\, VP of Community Relations and Real Estate\, Signal Hill Petroleum<br />\n<br />\n<strong>Special Moderator: </strong>Councilwoman Suzie Price
LOCATION:Holiday Inn Long Beach Airport 2640 N Lakewood Blvd Long Beach\, CA 90815
UID:e.1956.3098
SEQUENCE:3
DTSTAMP:20260419T193007Z
URL:https://business.lbchamber.com/events/details/long-beach-young-professionals-networking-breakfast-may-2017-3098
END:VEVENT

END:VCALENDAR
