BEGIN:VCALENDAR
VERSION:2.0
PRODID:-//ChamberMaster//Event Calendar 2.0//EN
METHOD:PUBLISH
X-PUBLISHED-TTL:P3D
REFRESH-INTERVAL:P3D
CALSCALE:GREGORIAN
BEGIN:VEVENT
DTSTART:20170322T143000Z
DTEND:20170322T160000Z
X-MICROSOFT-CDO-ALLDAYEVENT:FALSE
SUMMARY:Long Beach Young Professionals Networking Breakfast - March 2017
DESCRIPTION:John P. Keisler\n\nEconomic & Property Development Director\n\nCity of Long Beach\n\n \n\nJohn Keisler is the Economic & Property Development Director for the City of Long Beach.  The mission of department is to increase economic opportunities for entrepreneurs\, workers\, and investors in the City of Long Beach through workforce\, business\, and property development programs.\n\n \n\nAfter completing bachelor degrees in Philosophy and Religion at St. Olaf College\, he joined Teach For America\, teaching middle school literacy and civics in Newark\, NJ. To address the chronic community challenges facing his students\, he turned to a career in city management\, working with the League of California Cities and completing his MPA at the USC Price School of Public Policy.\n\n \n\nIn 2005\, John was hired as a Management Assistant by the City of Long Beach\, and rotated through four departments. Over the next decade\, he led multiple change-management projects throughout the City\, serving as the Animal Care Services Bureau Manager\, Business Operations Manager for the Parks\, Recreation & Marine Department\, CFO for the Police Department\, and the City's first Innovation Team Director.\n\n \n\nJohn lives in Long Beach with his beautiful wife Laura and his two sons Christopher (7) and Benjamin (10)\, where he serves on a number of civic boards and coaches youth sports.
X-ALT-DESC;FMTTYPE=text/html:<br />\n<strong><span style="font-family:arial\;">John P. Keisler</span></strong><br />\n<strong><span style="font-family:arial\;">Economic &amp\; Property Development Director</span></strong><br />\n<strong><span style="font-family:arial\;">City of Long Beach</span></strong><br />\n&nbsp\;<br />\n<span style="font-family:arial\;">John Keisler is the Economic &amp\; Property Development Director for the City of Long Beach.&nbsp\; The mission of department is to increase economic opportunities for entrepreneurs\, workers\, and investors in the City of Long Beach through workforce\, business\, and property development programs.</span><br />\n&nbsp\;<br />\n<span style="font-family:arial\;">After completing bachelor degrees in Philosophy and Religion at St. Olaf College\, he joined Teach For America\, teaching middle school literacy and civics in Newark\, NJ. To address the chronic community challenges facing his students\, he turned to a career in city management\, working with the League of California Cities and completing his MPA at the USC Price School of Public Policy.</span><br />\n&nbsp\;<br />\n<span style="font-family:arial\;">In 2005\, John was hired as a Management Assistant by the City of Long Beach\, and rotated through four departments. Over the next decade\, he led multiple change-management projects throughout the City\, serving as the Animal Care Services Bureau Manager\, Business Operations Manager for the Parks\, Recreation &amp\; Marine Department\, CFO for the Police Department\, and the City&rsquo\;s first Innovation Team Director.</span><br />\n&nbsp\;<br />\n<span style="font-family:arial\;">John lives in Long Beach with his beautiful wife Laura and his two sons Christopher (7) and Benjamin (10)\, where he serves on a number of civic boards and coaches youth sports.</span>
LOCATION:Holiday Inn Long Beach Airport 2640 N Lakewood Blvd Long Beach\, CA 90815
UID:e.1956.3073
SEQUENCE:3
DTSTAMP:20260419T210611Z
URL:https://business.lbchamber.com/events/details/long-beach-young-professionals-networking-breakfast-march-2017-3073
END:VEVENT

END:VCALENDAR
