BEGIN:VCALENDAR
VERSION:2.0
PRODID:-//ChamberMaster//Event Calendar 2.0//EN
METHOD:PUBLISH
X-PUBLISHED-TTL:P3D
REFRESH-INTERVAL:P3D
CALSCALE:GREGORIAN
BEGIN:VEVENT
DTSTART:20150603T143000Z
DTEND:20150603T160000Z
X-MICROSOFT-CDO-ALLDAYEVENT:FALSE
SUMMARY:Long Beach Young Professionals Networking Breakfast\, Featuring Aaron Leon\, Founder/CEO of LD Products
DESCRIPTION:Aaron has been driving the strategic and operational direction of LD Products\, the largest online retailer of ink & toner\, since its inception in 1999. With annual sales approaching $100MM\, the company maintains year over year growth while remaining profitable. Their recent expansion into selling office supplies makes them more relevant than ever to all businesses.\n\n\n\nNoteworthy:\n\n\n	Ernst and Young Entrepreneur of the Year\, Semi-Finalist\, 2014\n	First LEED Platinum Certified corporate headquarters/warehouse in California\n	One of the largest custom Magento Enterprise implementations on record\n	Top 20\, LA Business Journal\, Largest Minority Owned Business 2013 and 2014.\n	Internet Retailer Magazine\, Top 500\, Yearly since 2005
X-ALT-DESC;FMTTYPE=text/html:<span style="color: rgb(34\, 34\, 34)\; font-family: arial\, sans-serif\; font-size: 12.8000001907349px\; line-height: normal\;">Aaron has been driving the strategic and operational direction of LD Products\, the largest online retailer of ink &amp\; toner\, since its inception in 1999. With annual sales approaching $100MM\, the company maintains year over year growth while remaining profitable. Their recent expansion into selling office supplies makes them more relevant than ever to all businesses.</span><br />\n<br style="color: rgb(34\, 34\, 34)\; font-family: arial\, sans-serif\; font-size: 12.8000001907349px\; line-height: normal\;" />\n<span style="color: rgb(34\, 34\, 34)\; font-family: arial\, sans-serif\; font-size: 12.8000001907349px\; line-height: normal\;">Noteworthy:</span>\n\n<ul>\n	<li><span style="color: rgb(34\, 34\, 34)\; font-family: arial\, sans-serif\; font-size: 12.8000001907349px\; line-height: normal\;">Ernst and Young Entrepreneur of the Year\,&nbsp\;Semi-Finalist\,&nbsp\;2014</span></li>\n	<li><span style="color: rgb(34\, 34\, 34)\; font-family: arial\, sans-serif\; font-size: 12.8000001907349px\; line-height: normal\;">First LEED Platinum Certified corporate headquarters/warehouse&nbsp\;</span><span style="color: rgb(34\, 34\, 34)\; font-family: arial\, sans-serif\; font-size: 12.8000001907349px\; line-height: normal\;">in&nbsp\;California</span></li>\n	<li><span style="color: rgb(34\, 34\, 34)\; font-family: arial\, sans-serif\; font-size: 12.8000001907349px\; line-height: normal\;">One of the largest custom Magento Enterprise implementations on record</span></li>\n	<li><span style="color: rgb(34\, 34\, 34)\; font-family: arial\, sans-serif\; font-size: 12.8000001907349px\; line-height: normal\;"><span style="color: rgb(34\, 34\, 34)\; font-family: arial\, sans-serif\; font-size: 12.8000001907349px\; line-height: normal\;">Top&nbsp\;20\,&nbsp\;LA Business Journal\,&nbsp\;Largest Minority Owned Business 2013&nbsp\;</span><span style="color: rgb(34\, 34\, 34)\; font-family: arial\, sans-serif\; font-size: 12.8000001907349px\; line-height: normal\;">and 2014.</span></span></li>\n	<li><span style="color: rgb(34\, 34\, 34)\; font-family: arial\, sans-serif\; font-size: 12.8000001907349px\; line-height: normal\;">Internet Retailer Magazine\,&nbsp\;Top 500\,&nbsp\;Yearly since 2005</span></li>\n</ul>\n
LOCATION:Long Beach Yacht Club 6201 E. Appian Way Long Beach\, CA 90803
UID:e.1956.2452
SEQUENCE:3
DTSTAMP:20260421T193434Z
URL:https://business.lbchamber.com/events/details/long-beach-young-professionals-networking-breakfast-featuring-aaron-leon-founder-ceo-of-ld-products-06-03-2015-2452
END:VEVENT

END:VCALENDAR
