BEGIN:VCALENDAR
VERSION:2.0
PRODID:-//ChamberMaster//Event Calendar 2.0//EN
METHOD:PUBLISH
X-PUBLISHED-TTL:P3D
REFRESH-INTERVAL:P3D
CALSCALE:GREGORIAN
BEGIN:VEVENT
DTSTART:20141022T143000Z
DTEND:20141022T160000Z
X-MICROSOFT-CDO-ALLDAYEVENT:FALSE
SUMMARY:Long Beach Young Professionals Networking Breakfast
DESCRIPTION:Nick Worthington\, Operator of Worthington Ford\, presents Dee-Dee Boykin\, Operations Manager of Ford Motor Company. Dee-Dee will speak to the young professionals about her leadership experience and skills at the Ford Motor Company.
X-ALT-DESC;FMTTYPE=text/html:<p class="MsoNormal">Nick Worthington\, Operator of Worthington Ford\, presents Dee-Dee Boykin\, Operations Manager of Ford Motor Company. Dee-Dee will speak to the young professionals about her leadership experience and skills at the Ford Motor Company.</p>\n
LOCATION:Long Beach Yacht Club 6201 E. Appian Way Long Beach\, CA 90803
UID:e.1956.2313
SEQUENCE:3
DTSTAMP:20260422T064016Z
URL:https://business.lbchamber.com/events/details/long-beach-young-professionals-networking-breakfast-10-22-2014-2313
END:VEVENT

END:VCALENDAR
