BEGIN:VCALENDAR
VERSION:2.0
PRODID:-//ChamberMaster//Event Calendar 2.0//EN
METHOD:PUBLISH
X-PUBLISHED-TTL:P3D
REFRESH-INTERVAL:P3D
CALSCALE:GREGORIAN
BEGIN:VEVENT
DTSTART:20140827T143000Z
DTEND:20140827T160000Z
X-MICROSOFT-CDO-ALLDAYEVENT:FALSE
SUMMARY:Long Beach Young Professionals Networking Breakfast
DESCRIPTION:Featured Speaker: John Howard\, Owner/Operator\n\n                                     Chick-Fil-A Long Beach Towne Center\n\n\n\nThe Long Beach Young Professionals is a new program by the Long Beach Area Chamber of Commerce. Professionals between the ages of 21 and 40 come together to learn what it takes to be the future business leaders in the Long Beach area. LBYP is a group of innovative\, fun and committed professionals that interact through various Chamber events and networking opportunities. To learn more about becoming a LBYP\, contact the Chamber at 562-436-1251\, tweet TheLBChamber\, or post to our facebook page LBChamber.\n\n\n\nExtended for a limited time\, join the LBYP for only $100! A $50 savings!
X-ALT-DESC;FMTTYPE=text/html:<span style="font-size:14px\;"><span style="font-family:arial\;"><span style="background-image:initial\;background-attachment:initial\;background-size:initial\;background-origin:initial\;background-clip:initial\;background-position:initial\;background-repeat:initial\;">Featured Speaker: John Howard\, Owner/Operator</span><br />\n&nbsp\;&nbsp\;&nbsp\;&nbsp\;&nbsp\;&nbsp\;&nbsp\;&nbsp\;&nbsp\;&nbsp\;&nbsp\;&nbsp\;&nbsp\;&nbsp\;&nbsp\;&nbsp\;&nbsp\;&nbsp\;&nbsp\;&nbsp\;&nbsp\;&nbsp\;&nbsp\;&nbsp\;&nbsp\;&nbsp\;&nbsp\;&nbsp\;&nbsp\;&nbsp\;&nbsp\;&nbsp\;&#8203\;&nbsp\;&nbsp\;&nbsp\;&nbsp\;Chick-Fil-A Long Beach Towne Center<br />\n<br />\n<span style="background-image:initial\;background-attachment:initial\;background-size:initial\;background-origin:initial\;background-clip:initial\;background-position:initial\;background-repeat:initial\;">The Long Beach Young Professionals</span>&nbsp\;<span style="background-image:initial\;background-attachment:initial\;background-size:initial\;background-origin:initial\;background-clip:initial\;background-position:initial\;background-repeat:initial\;">is a new program by the Long Beach Area Chamber of Commerce. Professionals between the ages of 21 and 40 come together to learn what it takes to be the future business leaders in the Long Beach area.&nbsp\;</span>LBYP&nbsp\;is a group of innovative\, fun and committed professionals that interact through various Chamber events and networking opportunities. To learn more about becoming a LBYP\, contact the Chamber at 562-436-1251\, tweet TheLBChamber\, or post to our facebook&nbsp\;page LBChamber.<br />\n<br />\nExtended for a limited time\, join the LBYP for only $100! A $50 savings!</span></span><br />\n&nbsp\;
LOCATION:Long Beach Yacht Club 6201 E Appian Way Long Beach CA 90803
UID:e.1956.1262
SEQUENCE:3
DTSTAMP:20260422T092734Z
URL:https://business.lbchamber.com/events/details/long-beach-young-professionals-networking-breakfast-08-27-2014-1262
END:VEVENT

END:VCALENDAR
