BEGIN:VCALENDAR
VERSION:2.0
PRODID:-//ChamberMaster//Event Calendar 2.0//EN
METHOD:PUBLISH
X-PUBLISHED-TTL:P3D
REFRESH-INTERVAL:P3D
CALSCALE:GREGORIAN
BEGIN:VEVENT
DTSTART:20140625T143000Z
DTEND:20140625T160000Z
X-MICROSOFT-CDO-ALLDAYEVENT:FALSE
SUMMARY:Long Beach Young Professionals Networking Breakfast
DESCRIPTION:Featuring the new council member-elects:\n\n \n\n1st District Lena Gonzalez\n\n3rd District Suzie Price\n\n5th District Stacy Mungo\n\n9th District Rex Richardson \n\n\n\n\n\n\n\nThe Long Beach Young Professionals is a new program by the Long Beach Area Chamber of Commerce. Professionals between the ages of 21 and 40 come together to learn what it takes to be the future business leaders in the Long Beach area. LBYP is a group of innovative\, fun and committed professionals that interact through various Chamber events and networking opportunities.\n\n\n\nFor a limited time\, join the LBYP for only $100! A $50 savings!
X-ALT-DESC;FMTTYPE=text/html:<div style="color: rgb(34\, 34\, 34)\; line-height: normal\; font-family: arial\, sans-serif\;">Featuring the new council member-elects:</div>\n\n<div style="color: rgb(34\, 34\, 34)\; line-height: normal\; font-family: arial\, sans-serif\;">&nbsp\;</div>\n\n<div style="color: rgb(34\, 34\, 34)\; line-height: normal\; font-family: arial\, sans-serif\;">1st District Lena Gonzalez</div>\n\n<div style="color: rgb(34\, 34\, 34)\; line-height: normal\; font-family: arial\, sans-serif\;">3rd District Suzie Price</div>\n\n<div style="color: rgb(34\, 34\, 34)\; line-height: normal\; font-family: arial\, sans-serif\;">5th District Stacy Mungo</div>\n\n<div style="color: rgb(34\, 34\, 34)\; line-height: normal\; font-family: arial\, sans-serif\;">9th District Rex Richardson&nbsp\;<br />\n<br />\n<br />\n<br />\n<span style="font-size: 14px\;"><strong>The Long Beach Young Professionals</strong></span> is a new program by the Long Beach Area Chamber of Commerce. Professionals between the ages of 21 and 40 come together to learn what it takes to be the future business leaders in the Long Beach area. LBYP is a group of innovative\, fun and committed professionals that interact through various Chamber events and networking opportunities.<br />\n<br />\nFor a limited time\, join the LBYP for only $100! A $50 savings!</div>\n
LOCATION:Long Beach Yacht Club 6201 E Appian Way Long Beach CA 90803
UID:e.1956.1253
SEQUENCE:3
DTSTAMP:20260422T121920Z
URL:https://business.lbchamber.com/events/details/long-beach-young-professionals-networking-breakfast-06-25-2014-1253
END:VEVENT

END:VCALENDAR
