BEGIN:VCALENDAR
VERSION:2.0
PRODID:-//ChamberMaster//Event Calendar 2.0//EN
METHOD:PUBLISH
X-PUBLISHED-TTL:P3D
REFRESH-INTERVAL:P3D
CALSCALE:GREGORIAN
BEGIN:VEVENT
DTSTART:20160323T143000Z
DTEND:20160323T160000Z
X-MICROSOFT-CDO-ALLDAYEVENT:FALSE
SUMMARY:Long Beach Young Professionals Networking Breakfast
DESCRIPTION:Featured Speaker: Dave Erickson\, President\, CEO\, and Founder of FreeConferenceCall.com\n\nHis simple ideas and deft execution have forever transformed the telecommunications industry to better suit the needs of the consumer.  Dave founded FreeConferenceCall.com on the simple principle that collaborative communication should be available to all walks of life both affordably and efficiently.\n\n\n\nSince launching in 2001\, millions of entities have leveraged tools previously reserved only for deep-pocketed outfits.  For his continued focus on development and change\, Dave was named Innovator of the Year by VON for FreeConferenceCall.com's pioneering high definition conference bridges. Today\, FreeConferenceCall.com assists organizations across the spectrum\, ranging from prayer groups to presidential campaigns and has become the largest independent\, privately owned conference call company on the planet.\n\n\n\nBoasting roughly 30 million users across 160 countries each month\, the company is now the most recognized retail conferencing brand in the world.  Prior to FreeConferenceCall.com\, Dave owned and operated companies in the fields of construction\, finance\, and technology.  Dave lives in Long Beach\, California with his wife and three children and enjoys fishing\, boating\, surfing\, and volunteering in the community.
X-ALT-DESC;FMTTYPE=text/html:<strong>Featured Speaker: Dave Erickson</strong>\, President\, CEO\, and Founder of FreeConferenceCall.com<br />\nHis simple ideas and deft execution have forever transformed the telecommunications&nbsp\;industry to better suit the needs of the consumer. &nbsp\;Dave founded FreeConferenceCall.com on the simple principle that collaborative communication should be available to all walks of life both affordably and efficiently.<br />\n<br />\nSince launching in 2001\, millions of entities have leveraged tools previously reserved only for deep-pocketed outfits. &nbsp\;For his continued focus on development and change\, Dave was named Innovator of the Year by VON for FreeConferenceCall.com&#39\;s pioneering high definition conference bridges. Today\, FreeConferenceCall.com assists organizations across the spectrum\, ranging from prayer groups to presidential campaigns and has become the largest independent\, privately owned conference call company on the planet.<br />\n<br />\nBoasting roughly 30 million users across 160 countries each month\, the company is now the most recognized retail conferencing brand in the world. &nbsp\;Prior to FreeConferenceCall.com\, Dave owned and operated companies in the fields of construction\, finance\, and technology. &nbsp\;Dave lives in Long Beach\, California with his wife and three children and enjoys fishing\, boating\, surfing\, and volunteering in the community.
LOCATION:The Grand Long Beach Event Center 4101 E. Willow St. Long Beach\, CA 90815
UID:e.1956.2736
SEQUENCE:3
DTSTAMP:20260420T143240Z
URL:https://business.lbchamber.com/events/details/long-beach-young-professionals-networking-breakfast-03-23-2016-2736
END:VEVENT

END:VCALENDAR
